BEGIN:VCALENDAR
VERSION:2.0
PRODID:-//wp-events-plugin.com//7.2.3.1//EN
TZID:Europe/Berlin
X-WR-TIMEZONE:Europe/Berlin
BEGIN:VEVENT
UID:3571@lilabi.net
DTSTART;TZID=Europe/Berlin:20211118T200000
DTEND;TZID=Europe/Berlin:20211118T220000
DTSTAMP:20211006T162937Z
URL:https://www.lilabi.net/events/lesung-multimedial-wie-wir-nazis-wurden-
 eine-dokumentarische-spurensuche-2/
SUMMARY:Lesung - multimedial: »Wie wir Nazis wurden – Eine dokumentarisc
 he Spurensuche«
DESCRIPTION:Bei den Reichstagswahlen 1930 konnte die NSDAP ihren Stimmenant
 eil von 2\,8 auf 18\,3 Prozent erhöhen. Auch in Bielefeld lag die Steiger
 ung ähnlich hoch wie im Reichsdurchschnitt. Welche Motivationen\, welche 
 sozialen und ökonomischen Voraussetzungen beförderten diesen enormen Sti
 mmenzuwachs?\n\nIn ihrer multimedialen Lesung nutzt die Künstler:innengru
 ppe Projekt.: zeitgenössische Quellen\, um einen Blick ins Jahr 1930 zu w
 erfen. Zeitungsartikel\, Tagebücher\, private Aufzeichnungen früher Nati
 onalsozialist:innen und wissenschaftliche Analysen der Zeit vermitteln ein
 en atmosphärisch dichten Einblick und sind das lebendige Gerüst des span
 nenden Theaterabends.\n\nAuf der „Bühne“ sind: Josef Bäcker\, Silvia
  Bose\, Friedrich Brünger\, Annelie Buntenbach\, Aiga Kornemann\, Salina 
 Sahrhage\, Bernhard Wagner\, Dietlind Wild und Heiner Wild.\n\nWissenschaf
 tliche Beratung: Bernd J. Wagner\n\nKonzept\, Video und Regie: Matthias Ha
 rre\nWie wir Nazis wurden  wird gefördert von der LAG Soziokultur NRW und
  ist eine Kooperation mit der Bürgerinitiative Bürgerwache e. V.\, dem S
 tadtarchiv Bielefeld und der Künstler:innengruppe Projekt.: \nVVK: 12.- 
 € / 6.- €\n———————————————————
 ————————————————————————
 ———\nCoronabedingt benötigen wir von allen Zuschauenden eine schrif
 tliche Anmeldung / Reservierung unter kultur@bi-buergerwache.de. Die Plät
 ze sind begrenzt. Es wird nur Vorverkauf angeboten. Keine Abendkasse.\nEs 
 gelten die 3-G-Regeln (genesen\, geimpft oder getestet) mit entsprechender
  Bescheinigung und Ausweisdokument. Wird beim Einlass kontrolliert 
ATTACH;FMTTYPE=image/jpeg:https://www.lilabi.net/wp-content/uploads/2021/0
 9/21-09-13-web-klein-2.jpg
CATEGORIES:Lesung
LOCATION:Bürger*innenwache Siegfriedplatz\, Rolandstr. 16\, 33615 Bielefel
 d\, Deutschland
X-APPLE-STRUCTURED-LOCATION;VALUE=URI;X-ADDRESS=Rolandstr. 16\, 33615 Biele
 feld\, Deutschland;X-APPLE-RADIUS=100;X-TITLE=Bürger*innenwache Siegfried
 platz:geo:0,0
END:VEVENT
BEGIN:VTIMEZONE
TZID:Europe/Berlin
X-LIC-LOCATION:Europe/Berlin
BEGIN:STANDARD
DTSTART:20211031T020000
TZOFFSETFROM:+0200
TZOFFSETTO:+0100
TZNAME:CET
END:STANDARD
END:VTIMEZONE
END:VCALENDAR