BEGIN:VCALENDAR
VERSION:2.0
PRODID:-//wp-events-plugin.com//7.2.3.1//EN
TZID:Europe/Berlin
X-WR-TIMEZONE:Europe/Berlin
BEGIN:VEVENT
UID:5600@lilabi.net
DTSTART;TZID=Europe/Berlin:20240516T200000
DTEND;TZID=Europe/Berlin:20240516T230000
DTSTAMP:20240321T182249Z
URL:https://www.lilabi.net/events/lesung-mit-nilufar-karkhiran-khozani-ter
 afik/
SUMMARY:Lesung mit Nilufar Karkhiran Khozani - Terafik
DESCRIPTION:Karkhiran Khozani erzählt uns von Nilufar\, die in einer Fraue
 nbeziehung\nlebt. Auf der Suche nach einem Teil ihrer Selbst unternimmt si
 e ihre erste Reise in den Iran. Dort begegnet sie einer ihr unbekannten Fa
 milie - die Familie ihres Vaters\, der in den Iran zurückgekehrt ist\, al
 s sie noch ein junges Mädchen war. Sie trifft auf eine Gesellschaft volle
 r Gegensätze und lernt ein Leben kennen\, das das ihre hätte sein könne
 n\, und einen Vater\, der ihr immer dann ausweicht\, wenn sie ihm nahe kom
 mt. Umgeben vom Chaos der ständig fließenden Hauptstadt Teheran und der 
 wohlmeinenden Gastfreundschaft ihrer Verwandten entblättert Nilufar Schic
 ht um Schicht die Zerrissenheit eines Landes\, ihrer Familie und ihrer eig
 enen Identität.\nDie Protagonistin lässt uns in verschiedenen Zeit- und 
 Reflektionsebenen\nan den Eindrücken teilhaben\, die sie durchlebt. Beson
 ders gut gelungen ist das Einfangen von Widersprüchlichkeiten und der Her
 ausforderung\, diese in ein eigenes Leben\, in eine eigene Sichtweise\nzu 
 integrieren. Nicht zuletzt lädt uns das Stilmittel einer Reise ein\, uns 
 selbst mit der Autorin durch Zeit\, Raum und Kultur zubewegen.
ATTACH;FMTTYPE=image/jpeg:https://www.lilabi.net/wp-content/uploads/2024/0
 3/Khozani_©ErikWeissmittel.jpg
CATEGORIES:Lesung
LOCATION:Buchladen Eulenspiegel\, Hagenbruchstr. 7 \, Bielefeld\, Deutschla
 nd
X-APPLE-STRUCTURED-LOCATION;VALUE=URI;X-ADDRESS=Hagenbruchstr. 7 \, Bielefe
 ld\, Deutschland;X-APPLE-RADIUS=100;X-TITLE=Buchladen Eulenspiegel:geo:0,0
END:VEVENT
BEGIN:VTIMEZONE
TZID:Europe/Berlin
X-LIC-LOCATION:Europe/Berlin
BEGIN:DAYLIGHT
DTSTART:20240331T030000
TZOFFSETFROM:+0100
TZOFFSETTO:+0200
TZNAME:CEST
END:DAYLIGHT
END:VTIMEZONE
END:VCALENDAR