BEGIN:VCALENDAR
VERSION:2.0
PRODID:-//wp-events-plugin.com//7.2.3.1//EN
TZID:Europe/Berlin
X-WR-TIMEZONE:Europe/Berlin
BEGIN:VEVENT
UID:4725@lilabi.net
DTSTART;TZID=Europe/Berlin:20230516T193000
DTEND;TZID=Europe/Berlin:20230516T210000
DTSTAMP:20230419T130853Z
URL:https://www.lilabi.net/events/lesung-mit-katharina-nocun-gefaehrlicher
 -glaube/
SUMMARY:Lesung mit Katharina Nocun- Gefährlicher Glaube
DESCRIPTION:Wir alle versuchen\, die Welt um uns herum für uns verständli
 ch zu machen. Die einen greifen dafür auf wissenschaftliche Belege und di
 e Einschätzung von Fachleuten zurück. Andere wiederum folgen einem spiri
 tuellen Ansatz\, um ihren Platz in der Welt auszumachen. Gerade in einer Z
 eit voll von Umbrüchen und Veränderungen suchen viele Menschen Halt und 
 Orientierung in esoterischen Welterklärungsmodellen. Horoskope zeigen ein
 em\, was die eigene Zukunft bringen wird. Der spirituelle Heiler wird zur 
 Leitfigur\, die aus Krisenzeiten herausführen soll. Derartige Angebote si
 nd keineswegs nur für eine kleine Minderheit attraktiv: Laut einer Allbus
 -Umfrage sehen 40 Prozent der Deutschen einen tieferen Sinn hinter Astrolo
 gie oder spiritueller Erleuchtung. Der Esoterikmarkt boomt! Ist der Glaube
  an unsichtbare Kräfte\, die unser Leben in die richtige Bahn lenken soll
 en\, nur eine harmlose Spinnerei\, die Abwechslung in den tristen Alltag b
 ringt? Oder bringt der Esoterik-Trend gefährlichere Risiken mit sich\, al
 s es auf den ersten Blick erscheinen mag?\n\nKatharina Nocun ist Bürgerre
 chtlerin\, Publizistin und hat Politik- und Wirtschaftswissenschaften in M
 ünster und Hamburg studiert (M.Sc.). Sie leitete bundesweit Kampagnen u.a
 . für die Bürgerbewegung Campact e.V.\, den Verbraucherzentrale Bundesve
 rband\, Mehr Demokratie e.V. und die Free Software Foundation Europe e.V..
  Edward Snowden bedankte sich persönlich für die von ihr geleitete Kampa
 gne „Asyl für Snowden“. Sie ist regelmäßig Gast in zahlreichen TV- 
 und Talkshow-Formaten (Illner\, Lanz\, Maischberger). Ihr Podcast „Denka
 ngebot“ war 2020 für den Grimme Online Award nominiert.\n\nPia Lamberty
  ist Psychologin und Expertin im Bereich Verschwörungsideologien. Ihre Fo
 rschung führte sie an die Universitäten in Köln\, Mainz und Beer Sheva 
 (Israel). Lamberty verortet sich an der Schnittstelle von Wissenschaft und
  Gesellschaft und klärt evidenzbasiert über Verschwörungserzählungen\,
  Desinformation\, Antisemitismus und Rechtsextremismus auf. Darüber hinau
 s ist sie gemeinsam mit Josef Holnburger Geschäftsführerin CeMAS (Center
  für Monitoring\, Analyse und Strategie gGmbH). Zu Gast ist an diesem Abe
 nd eine der Autorinnen\, Katharina Nocun.\n\nDie Veranstaltung findet in K
 ooperation der vhs Löhne mit Arbeit und Leben im Kreis Herford DGB/VHS e.
 V. statt und wird im Rahmen der Aktionswochen gegen Rassismus 2023 angebot
 en.\n\nKarten erhalten Sie online in unserem Ticketshop\, an der Abendkass
 e sowie im Vorverkauf bei der vhs Löhne und allen zugelassenen VVK-Stelle
 n.
ATTACH;FMTTYPE=image/jpeg:https://www.lilabi.net/wp-content/uploads/2023/0
 4/978-3-86995-111-9_Gefaehrlicher-Glaube-quadratisch.jpg
CATEGORIES:Lesung
LOCATION:VHS Löhne - Werretalhalle\, Alte Bünder Straße 14\, Löhne\, NR
 W\, Deutschland
X-APPLE-STRUCTURED-LOCATION;VALUE=URI;X-ADDRESS=Alte Bünder Straße 14\, L
 öhne\, NRW\, Deutschland;X-APPLE-RADIUS=100;X-TITLE=VHS Löhne - Werretal
 halle:geo:0,0
END:VEVENT
BEGIN:VTIMEZONE
TZID:Europe/Berlin
X-LIC-LOCATION:Europe/Berlin
BEGIN:DAYLIGHT
DTSTART:20230326T030000
TZOFFSETFROM:+0100
TZOFFSETTO:+0200
TZNAME:CEST
END:DAYLIGHT
END:VTIMEZONE
END:VCALENDAR