BEGIN:VCALENDAR
VERSION:2.0
PRODID:-//wp-events-plugin.com//7.2.3.1//EN
TZID:Europe/Berlin
X-WR-TIMEZONE:Europe/Berlin
BEGIN:VEVENT
UID:4710@lilabi.net
DTSTART;TZID=Europe/Berlin:20230517T200000
DTEND;TZID=Europe/Berlin:20230517T213000
DTSTAMP:20230517T123210Z
URL:https://www.lilabi.net/events/lesung-mit-guen-tank/
SUMMARY:FÄLLT AUS Lesung mit Gün Tank
DESCRIPTION:!!! LESUNG FÄLLT LEIDER AUS !!!\n&nbsp\;\n\nMit ihrem Debüt 
 »Die Optimistinnen« feiert Gün Tank die vielen Frauen\, die als Arbeits
 migrantinnen nach Deutschland kamen und für gleiche Löhne und bessere Ar
 beitsbedingungen kämpften. Stimmen\, wie die der Protagonistin\, die bis 
 dato selten\nzu Wort kommen.\n\n"Ich schwimme durch ein Meer von Geschicht
 en\, tauche\nnach den nicht erzählten Worten und Sätzen unserer\nFrauenm
 ünder. Das Gestern formt mein Heute. Kenne\nich das Gestern nicht\, so we
 rde ich mein Heute oder\nzukünftiges Heute nicht verstehen\, denke ich. D
 ie vielen\nFrauen\, die dieses Land mitaufbauten und veränderten\,\nfinde
 n sich in der deutschen Geschichte kaum wieder.\nStarke Frauen\, mutige Fr
 auen: unsere Mütter. Unsere\nGroßmütter.."\n\n&nbsp\;\n!!! LESUNG FÄLL
 T LEIDER AUS !!!
ATTACH;FMTTYPE=image/jpeg:https://www.lilabi.net/wp-content/uploads/2023/0
 3/Tank_online_kl.jpg
LOCATION:Buchladen Eulenspiegel\, Hagenbruchstr. 7 \, Bielefeld\, Deutschla
 nd
X-APPLE-STRUCTURED-LOCATION;VALUE=URI;X-ADDRESS=Hagenbruchstr. 7 \, Bielefe
 ld\, Deutschland;X-APPLE-RADIUS=100;X-TITLE=Buchladen Eulenspiegel:geo:0,0
END:VEVENT
BEGIN:VTIMEZONE
TZID:Europe/Berlin
X-LIC-LOCATION:Europe/Berlin
BEGIN:DAYLIGHT
DTSTART:20230326T030000
TZOFFSETFROM:+0100
TZOFFSETTO:+0200
TZNAME:CEST
END:DAYLIGHT
END:VTIMEZONE
END:VCALENDAR