BEGIN:VCALENDAR
VERSION:2.0
PRODID:-//wp-events-plugin.com//7.2.3.1//EN
TZID:Europe/Berlin
X-WR-TIMEZONE:Europe/Berlin
BEGIN:VEVENT
UID:4399@lilabi.net
DTSTART;TZID=Europe/Berlin:20220910T170000
DTEND;TZID=Europe/Berlin:20220910T190000
DTSTAMP:20220906T120948Z
URL:https://www.lilabi.net/events/lesung-mit-gleichnamigen-titel/
SUMMARY:Lesung mit gleichnamigen Titel
DESCRIPTION:„Lesung mit gleichnamigem Titel“\n\nUnter dieser Überschri
 ft tragen Kerstin Honerkamp und Nicolas Bröggelwirth am Samstag\, 10. Sep
 tember\, ab 17 Uhr im „Café Wirtschaftswunder“ in Bünde Texte und Pa
 ssagen aus ihren neuen Büchern vor. Aber auch auf einige „Klassiker“ 
 darf man sich freuen. Für sie ist es die erste Station und Premiere ihrer
  Lesereise\, die sie im Herbst und Winter durch zahlreiche Orte in OWL fü
 hren wird.\n\nIn ihrem Buch „Platzangst“ erzählt Honerkamp die vorder
 gründig einfache Geschichte einer jungen Frau aus Bünde\, die mit dem fa
 lschen Mann liiert ist. Lars neigt sogar zur Gewalt. Auf einer Insel\, wo 
 ihre Mutter seit dem Tod ihres Mannes lebt\, lernt sie Manuel kennen. Ein 
 paar knisternde\, erotische Abenteuer später kann sie nicht mehr aufhöre
 n\, pausenlos an ihn zu denken. Und auch bei Manuel ist die Liebe zu ihr e
 rwacht. Die Lösung scheint auf der Hand zu liegen. Aber was so simpel kli
 ngt\, wird von ihren vielen Ängsten blockiert. „Wach auf!“\, möchte 
 man ihr zurufen. Doch wird sie die Sicherheit in der Gefangenschaft ihrer 
 Träume gegen die Unsicherheit im wahren Leben tauschen können?\n\n Brö
 ggelwirth hat den Menschen seiner Heimat genau auf den Mund geschaut. Mit 
 satirischer Präzision und einer Menge analytischer Freude und Freiheit be
 schreibt er in seinem Buch „Ostwestfälische Gespräche“ die Bewohner 
 jener Gegend zwischen lakonischer Freude und selbstredenden Dialogen. Die 
 Gespräche und Situationen sind nicht selten wie die Beschriebenen selbst:
  Oft verwirrt\, voller Missverständnisse\, aber meist eben doch von einer
  Herzlichkeit\, die sich einfach nicht nach Außen zeigen lässt. Schließ
 lich hat die auch nichts in der intakten Umwelt und Natur zwischen Weserbe
 rgland und Wiehengebirge verloren\, geschweige denn zu suchen.\n\n Kersti
 n Honerkamp (*1969) kam in Fürstenau zur Welt und wuchs in Vlotho auf\, b
 evor sie längere Zeit in Rödinghausen und Melle wohnte. Heute lebt sie i
 n Bünde. 2007 erschien ihr Debut-Roman „Zwischen den Stühlen“. Honer
 kamp schreibt seit ihrer Jugend\, veröffentlichte in diversen Zeitschrift
 en und schrieb zahlreiche Theater-Stücke für Kinder und Erwachsene.\n\n
  Nicolas Bröggelwirth (*1975) wurde zwar in Herford geboren\, ist aber B
 ünder durch und durch. Als Journalist arbeitet er heute bei einer heimisc
 hen Zeitung. Für sein Schaffen beim Radio erhielt er den „Bobby“ der 
 Deutschen Hörfunkakademie. Bröggelwirth ist Gründungs-Mitglied der Herf
 order AutorInnen-Gruppe und brachte ihre erste Anthologie heraus. \n\n Vi
 elleicht tragen die beiden Autoren neben dem Bekannten und Teilen aus ihre
 n Büchern auch Texte vor\, die noch nie ein Mensch zuvor gelesen hat. Auf
  die Zuschauer wartet ein vorwiegend unterhaltsamer Abend\, der aber auch 
 mal ernste Töne anschlagen kann. Man darf gespannt sein.\n\nNähere Infor
 mationen zu den Büchern\, Autoren und Terminen gibt es im Internet unter 
 www.kerstinhonerkamp.de oder www.nicolas-broeggelwirth.de.
ATTACH;FMTTYPE=image/jpeg:https://www.lilabi.net/wp-content/uploads/2022/0
 9/Lesung-mit-gleichnamigen-Titel-Plakat-ohne-Datum-bis-1000-pix.jpg
CATEGORIES:Buchvorstellung,Lesung
LOCATION:Café Wirtschaftswunder\, Fünfhausenerstraße 38\, Bünde\, Deuts
 chland
X-APPLE-STRUCTURED-LOCATION;VALUE=URI;X-ADDRESS=Fünfhausenerstraße 38\, B
 ünde\, Deutschland;X-APPLE-RADIUS=100;X-TITLE=Café Wirtschaftswunder:geo
 :0,0
END:VEVENT
BEGIN:VTIMEZONE
TZID:Europe/Berlin
X-LIC-LOCATION:Europe/Berlin
BEGIN:DAYLIGHT
DTSTART:20220327T030000
TZOFFSETFROM:+0100
TZOFFSETTO:+0200
TZNAME:CEST
END:DAYLIGHT
END:VTIMEZONE
END:VCALENDAR