BEGIN:VCALENDAR
VERSION:2.0
PRODID:-//wp-events-plugin.com//7.2.3.1//EN
TZID:Europe/Berlin
X-WR-TIMEZONE:Europe/Berlin
BEGIN:VEVENT
UID:4806@lilabi.net
DTSTART;TZID=Europe/Berlin:20231129T200000
DTEND;TZID=Europe/Berlin:20231129T220000
DTSTAMP:20230826T114449Z
URL:https://www.lilabi.net/events/lesung-mit-christina-clemm-gegen-frauen-
 hass/
SUMMARY:Lesung mit Christina Clemm - Gegen Frauen Hass
DESCRIPTION:Und sie ist wütend - weil in Deutschland jeden dritten Tag ein
 e Frau von ihrem (Ex-)Partner umgebracht wird. Weil Frauen beim Arzt\, in 
 der Arbeit und auf offener Straße Gewalt erleben und niemand etwas dagege
 n tut. Liegt dem Ganzen ein tief verwurzelter Frauenhass zugrunde?\n\nNirg
 ends sind Frauen vor dem Hass und der Gewalt des Patriarchats sicher." Chr
 istina Clemm\, Fachanwältin für Familien- und Strafrecht\, schreibt dar
 über\, was getan werden muss.\n
CATEGORIES:Lesung
LOCATION:Buchladen Eulenspiegel\, Hagenbruchstr. 7 \, Bielefeld\, Deutschla
 nd
X-APPLE-STRUCTURED-LOCATION;VALUE=URI;X-ADDRESS=Hagenbruchstr. 7 \, Bielefe
 ld\, Deutschland;X-APPLE-RADIUS=100;X-TITLE=Buchladen Eulenspiegel:geo:0,0
END:VEVENT
BEGIN:VTIMEZONE
TZID:Europe/Berlin
X-LIC-LOCATION:Europe/Berlin
BEGIN:STANDARD
DTSTART:20231029T020000
TZOFFSETFROM:+0200
TZOFFSETTO:+0100
TZNAME:CET
END:STANDARD
END:VTIMEZONE
END:VCALENDAR