BEGIN:VCALENDAR
VERSION:2.0
PRODID:-//wp-events-plugin.com//7.2.3.1//EN
TZID:Europe/Berlin
X-WR-TIMEZONE:Europe/Berlin
BEGIN:VEVENT
UID:6378@lilabi.net
DTSTART;TZID=Europe/Berlin:20250901T200000
DTEND;TZID=Europe/Berlin:20250901T213000
DTSTAMP:20250821T161833Z
URL:https://www.lilabi.net/events/lesung-keine-mutter/
SUMMARY:Lesung: (K)eine Mutter
DESCRIPTION:+++ Lesung und Diskussion mit Jeanne Diesteldorf +++\n\nGesiche
 rte Zahlen über Abtreibungen gibt es nicht\, da kaum eine Betroffene dar
 über spricht\, weder öffentlich\, noch im Privaten. So bestimmen aggress
 iv geführte Debatten und eine unklare rechtliche Situation den gesellscha
 ftlichen Umgang mit einem höchst persönlichen Thema.\n\n»(K)eine Mutter
 « erzählt die Geschichten von zwölf Frauen\, die abgetrieben haben. Das
  Buch gibt ihnen Raum\, zu berichten: Von den Umständen der Schwangerscha
 ft\, dem Grübeln und der schwierigen Suche nach Informationen und medizin
 ischer Versorgung. Vom Moment der Entscheidung und davon\, wie die Abtreib
 ung ihre Beziehung zu sich selbst und zu ihrem Umfeld veränderte. Es sind
  Geschichten von Schmerz und Verzweiflung\, von Selbstbehauptung und von B
 efreiung.\n\nJeanne Diesteldorf hat abgetrieben und jahrelang darüber ges
 chwiegen. Ihr außergewöhnliches Buch ist ein entschiedenes Plädoyer fü
 r das Recht am eigenen Körper.\n\n+++ Eine Veranstaltung des Fem*Ref und 
 der ALIBI im Rahmen des Roten Montag +++
ATTACH;FMTTYPE=image/jpeg:https://www.lilabi.net/wp-content/uploads/2025/0
 8/KEINE-MUTTER.jpg
CATEGORIES:Diskussion,Lesung
LOCATION:Extra Blues Bar\, Siekerstraße 20\, Bielefeld\, Deutschland
X-APPLE-STRUCTURED-LOCATION;VALUE=URI;X-ADDRESS=Siekerstraße 20\, Bielefel
 d\, Deutschland;X-APPLE-RADIUS=100;X-TITLE=Extra Blues Bar:geo:0,0
END:VEVENT
BEGIN:VTIMEZONE
TZID:Europe/Berlin
X-LIC-LOCATION:Europe/Berlin
BEGIN:DAYLIGHT
DTSTART:20250330T030000
TZOFFSETFROM:+0100
TZOFFSETTO:+0200
TZNAME:CEST
END:DAYLIGHT
END:VTIMEZONE
END:VCALENDAR