BEGIN:VCALENDAR
VERSION:2.0
PRODID:-//wp-events-plugin.com//7.2.3.1//EN
TZID:Europe/Berlin
X-WR-TIMEZONE:Europe/Berlin
BEGIN:VEVENT
UID:4480@lilabi.net
DTSTART;TZID=Europe/Berlin:20221202T190000
DTEND;TZID=Europe/Berlin:20221202T203000
DTSTAMP:20221201T144746Z
URL:https://www.lilabi.net/events/lesung-glitzer-im-kohlestaub/
SUMMARY:Lesung \\"Glitzer im Kohlestaub\\"
DESCRIPTION:Wollen wir echten Klimaschutz haben\, müssen wir ihn selber ma
 chen.\n\nDas haben auch unzählige Aktivist*innen der Klimagerechtigkeitsb
 ewegung erkannt\, sie besetzen Wälder wie den Hambacher oder Dannenröder
  Forst\, setzen sich auf Tagebaubagger in der Lausitz oder in Garzweiler\,
  blockieren Zufahrtsgleise zu Kohlekraftwerken\, kämpfen um den Erhalt vo
 n Dörfern wie Lützerath\, springen vor Kreuzfahrtschiffen ins Wasser\, u
 m sie am Auslaufen zu hindern\, oder sabotieren Maschinen und anderes Ger
 ät\, das für den Ablauf des zerstörerischen Geschäfts nötig ist.\n\nD
 as neue Buch des Kollektivs zucker.im.tank versammelt mehr als 60 Beitr
 äge aus verschiedenen Spektren der Bewegung.\nDarin legen unterschiedlich
 e Aktivist*innen ihre politischen Überlegungen dar und geben einen durcha
 us selbstkritischen Einblick in das Zusammenleben in Klimacamps\, besetzte
 n Dörfern und Wäldern.\n\nKommt zur Lesung\, am 02.12. um 19 Uhr in X-E0
 -200
ATTACH;FMTTYPE=image/jpeg:https://www.lilabi.net/wp-content/uploads/2022/1
 1/Design-ohne-Titel-6.png
LOCATION:Uni Bielefeld\, X-E0-200\, Universitätsstraße 25\, Bielefeld\, D
 eutschland
X-APPLE-STRUCTURED-LOCATION;VALUE=URI;X-ADDRESS=Universitätsstraße 25\, B
 ielefeld\, Deutschland;X-APPLE-RADIUS=100;X-TITLE=Uni Bielefeld\, X-E0-200
 :geo:0,0
END:VEVENT
BEGIN:VTIMEZONE
TZID:Europe/Berlin
X-LIC-LOCATION:Europe/Berlin
BEGIN:STANDARD
DTSTART:20221030T020000
TZOFFSETFROM:+0200
TZOFFSETTO:+0100
TZNAME:CET
END:STANDARD
END:VTIMEZONE
END:VCALENDAR