BEGIN:VCALENDAR
VERSION:2.0
PRODID:-//wp-events-plugin.com//7.2.3.1//EN
TZID:Europe/Berlin
X-WR-TIMEZONE:Europe/Berlin
BEGIN:VEVENT
UID:4482@lilabi.net
DTSTART;TZID=Europe/Berlin:20221216T193000
DTEND;TZID=Europe/Berlin:20221216T220000
DTSTAMP:20221205T155931Z
URL:https://www.lilabi.net/events/lesung-geschichten-von-hier-wech/
SUMMARY:Lesung: Geschichten von hier wech
DESCRIPTION:Humorvolle Episoden aus Ostwestfalen präsentieren die Bünder 
 Autoren Kerstin Honerkamp und Nicolas Bröggelwirth in ihrem Programm „G
 eschichten von hier wech“.\n\nIn ihren Erzählungen richten sich ihre Bl
 icke stets mit einem Augenzwinkern und feiner Ironie auf mehr oder weniger
  wahre\, aber einhundert Prozent typische Begebenheiten\, wie sie fast nur
  in dieser Region spielen können. So wird sich wohl mancher ein Schmunzel
 n verkneifen müssen und in den amüsanten Geschichten wiederfinden\, in d
 enen unter anderem darum geht\, ein Wurstbrot\, nein\, Verzeihung\, ein Sa
 ndwich richtig zu belegen oder die verkehrte Welt des Parkens zu verstehen
 . Was hat es wohl mit dem Raucherzimmer im Krankenhaus auf sich und gab es
  in den 80er-Jahren schon Helikopter-Eltern?\n\nKerstin Honerkamp hat bere
 its 2007 mit ihrem Roman „Zwischen den Stühlen“ debütiert und schrei
 bt Theaterstücke für Kinder\, Jugendliche und Erwachsene. Ganz frisch im
  Handel ist ihr neuer Roman „Platzangst“.\n\nNicolas Bröggelwirth ist
  Ostwestfale durch und durch und ausgezeichnet von der Deutschen Hörfunka
 kademie. Als Gründungs-Mitglied der Herforder AutorInnen-Gruppe brachte e
 r 2017 ihre erste Anthologie heraus.\n\nKünstler / Mitwirkende\n\nKerstin
  Honerkamp\, Nicolas Bröggelwirth
CATEGORIES:Lesung
END:VEVENT
BEGIN:VTIMEZONE
TZID:Europe/Berlin
X-LIC-LOCATION:Europe/Berlin
BEGIN:STANDARD
DTSTART:20221030T020000
TZOFFSETFROM:+0200
TZOFFSETTO:+0100
TZNAME:CET
END:STANDARD
END:VTIMEZONE
END:VCALENDAR