BEGIN:VCALENDAR
VERSION:2.0
PRODID:-//wp-events-plugin.com//7.2.3.1//EN
TZID:Europe/Berlin
X-WR-TIMEZONE:Europe/Berlin
BEGIN:VEVENT
UID:4405@lilabi.net
DTSTART;TZID=Europe/Berlin:20221025T200000
DTEND;TZID=Europe/Berlin:20221025T223000
DTSTAMP:20220916T135833Z
URL:https://www.lilabi.net/events/lesung-fatma-aydemir/
SUMMARY:Lesung: Fatma Aydemir
DESCRIPTION:Fatma Aydemir liest aus Ihrem neuen Roman: Dschinns.\n\nHanser 
 | 24\,-€\n\n&nbsp\;\n\nEintritt 5\,-/10\,-€\n\nDieser Roman ist nicht 
 nur ein ausgezeichnetes Familienportrait\, sondern schafft es das individu
 elle Erleben der einzelnen Mitglieder in den gesellschafts- und sozialpoli
 tischen Kontext der 90er Jahre in Deutschland zu stellen.\n\nNach vielen J
 ahren als sogenannter Gastarbeiter in Deutschland\, will Hüseyin sich end
 lich den Traum einer Wohnung in Istanbul erfüllen.\n\nZu dem lang ersehnt
 en Ruhestand kommt es allerdings nicht – sein plötzlicher Tod beraubt i
 hn dieser Erfahrung und konfrontiert seine Familie mit Trauer\, Verzweiflu
 ng und einer Rückschau auf ein Leben\, das von persönlichen Schicksalssc
 hlägen und politischen Anfeindungen geprägt ist.\n\nIm Laufe des Buches 
 lernen wir alle Mitglieder der Familie kennen\, erfahren ihre Geschichte\,
  Wünsche und Schwierigkeiten.\n\nDiese verschiedenen Perspektiven sind in
 tensiv dargestellt\, jede einzelne Erzählstimme ist packend. Kapitel für
  Kapitel sehen wir uns in der ganz persönlichen Welt der jeweiligen Perso
 n. Ihre Nöte\, Sorgen und Ambitionen könnten kaum unterschiedlicher sein
  und doch gehören sie zusammen. Die bevorstehende Beerdigung Hüseyins br
 ingt Erinnerungen\, Geheimnisse und Enttäuschungen hervor.\n\n&nbsp\;\n\n
 &nbsp\;\n\n&nbsp\;\n\n&nbsp\;
CATEGORIES:Lesung
LOCATION:Buchladen Eulenspiegel\, Hagenbruchstr. 7 \, Bielefeld\, Deutschla
 nd
X-APPLE-STRUCTURED-LOCATION;VALUE=URI;X-ADDRESS=Hagenbruchstr. 7 \, Bielefe
 ld\, Deutschland;X-APPLE-RADIUS=100;X-TITLE=Buchladen Eulenspiegel:geo:0,0
END:VEVENT
BEGIN:VTIMEZONE
TZID:Europe/Berlin
X-LIC-LOCATION:Europe/Berlin
BEGIN:DAYLIGHT
DTSTART:20220327T030000
TZOFFSETFROM:+0100
TZOFFSETTO:+0200
TZNAME:CEST
END:DAYLIGHT
END:VTIMEZONE
END:VCALENDAR