BEGIN:VCALENDAR
VERSION:2.0
PRODID:-//wp-events-plugin.com//7.2.3.1//EN
TZID:Europe/Berlin
X-WR-TIMEZONE:Europe/Berlin
BEGIN:VEVENT
UID:2751@lilabi.net
DTSTART;TZID=Europe/Berlin:20200123T200000
DTEND;TZID=Europe/Berlin:20200123T220000
DTSTAMP:20191001T161343Z
URL:https://www.lilabi.net/events/lesung-das-subjekt-in-der-krise/
SUMMARY:Lesung: Das Subjekt in der Krise
DESCRIPTION:Buchvorstellung und Diskussion\n\nOb Stress\, Erschöpfung\, Ar
 mut\, Klimawandel oder Neoautoritarismus: Die Krisenförmigkeit des Gegenw
 artskapitalismus ist unübersehbar. Mit »Resilienz« wird vor diesem Hint
 ergrund eine Norm der Selbst- und Menschenführung populär\, die die flex
 ible Anpassungsfähigkeit von Subjekten an eine prinzipiell krisenförmige
  Umwelt propagiert. Wer resilient ist\, bleibt auch in unsicheren Zeiten e
 rfolgreich\, glücklich und gesund. Gesellschaftliche Strukturbedingungen 
 werden dabei tendenziell unsichtbar.\n\nStefanie Graefe kritisiert die akt
 uelle Konjunktur der Resilienz und stellt die These auf\, dass der anfäng
 lich so widerständig und emanzipatorisch gemeinte Ruf nach Autonomie und 
 Selbstverwirklichung in die gesellschaftliche Auf- und Anforderung umgesch
 lagen ist\, die eigene Selbstvermarktung lebenslang voranzutreiben – es 
 entwickelte sich das Leitbild des „unternehmerischen Selbst“.\n\nFür 
 Graefe sind die auf das Subjekt fokussierten  Krisendiagnosen und die auf
  sie bezogenen therapeutischen Bewältigungsstrategien der falsche Weg. Ih
 r Plädoyer zielt auf Wiederbelebung der Sozialkritik\, die die gesellscha
 ftlichen Verhältnisse als demokratisch gestalt- und veränderbar begreift
 .\n\n&nbsp\;\n\nStefanie Graefe\n\nResilienz im Krisenkapitalismus. Wider 
 das Lob der Anpassungsfähigkeit\n\nTranscript Verlag | 19\,99€\n\n&nbsp
 \;\n\nStefanie Graefe ist Soziologin an der Friedrich-Schiller-Universitä
 t Jena. Sie forscht und lehrt mit den Schwerpunkten Arbeit und Gesundheit\
 , Politische Soziologie\, Subjekttheorie\, Biopolitiken und Qualitative So
 zialforschung.\n\n&nbsp\;\n\nBitte rechtzeitig reservieren.
ATTACH;FMTTYPE=image/jpeg:https://www.lilabi.net/wp-content/uploads/2019/1
 0/Graefe_23012020_online_klein.jpg
CATEGORIES:Lesung
LOCATION:Buchladen Eulenspiegel\, Hagenbruchstr. 7 \, Bielefeld\, Deutschla
 nd
X-APPLE-STRUCTURED-LOCATION;VALUE=URI;X-ADDRESS=Hagenbruchstr. 7 \, Bielefe
 ld\, Deutschland;X-APPLE-RADIUS=100;X-TITLE=Buchladen Eulenspiegel:geo:0,0
END:VEVENT
BEGIN:VTIMEZONE
TZID:Europe/Berlin
X-LIC-LOCATION:Europe/Berlin
BEGIN:STANDARD
DTSTART:20191027T020000
TZOFFSETFROM:+0200
TZOFFSETTO:+0100
TZNAME:CET
END:STANDARD
END:VTIMEZONE
END:VCALENDAR