BEGIN:VCALENDAR
VERSION:2.0
PRODID:-//wp-events-plugin.com//7.2.3.1//EN
TZID:Europe/Berlin
X-WR-TIMEZONE:Europe/Berlin
BEGIN:VEVENT
UID:5818@lilabi.net
DTSTART;TZID=Europe/Berlin:20241121T190000
DTEND;TZID=Europe/Berlin:20241121T210000
DTSTAMP:20241104T100013Z
URL:https://www.lilabi.net/events/lesung-3/
SUMMARY:Lesung
DESCRIPTION:Lesung »Stimmen« im Stadtteilzentrum Bürgerwache\n\n\nAm Don
 nerstag\, den 21. November 2024\, um 19 Uhr lädt der Verband deutscher Sc
 hriftstellerinnen und Schriftsteller in ver.di (VS NRW OWL) zusammen mit d
 er Bürgerinitiative Bürgerwache e.V. zu einer Lesung mit dem Thema »Sti
 mmen« in den Saal der Bürgerwache am Siegfriedplatz ein.\n\nDie Auseinan
 dersetzung mit dem Thema »Stimmen« bietet nicht nur Raum für künstleri
 schen Ausdruck\, sondern fördert auch das Nachdenken über individuelle u
 nd kollektive Meinungen sowie über die eigene Position in einer oft verwi
 rrenden Welt voller unterschiedlicher Perspektiven.\n\nVier renommierte Au
 torinnenen und Autoren – Monika Dlugosch\, Emily Lüpken\, Oliver Rachne
 r und Achim Seiffarth – setzen sich mit den vielfältigen Facetten des T
 hemas auseinander. \n\nDie Veranstaltung wird unterstützt von der Gesells
 chaft für Literatur in NRW e.V. und dem Ministerium für Wissenschaft und
  Kultur (MWK NRW). \n\nDer Eintritt ist frei. Spenden gern gesehen.\n\nDet
 ails zur Lesung:\n\n 	Lesung: »Stimmen« – Autorinnen und Autoren des V
 erbands deutscher Schriftstellerinnen und Schriftsteller in ver.di (VS NRW
  OWL)\n\n\n 	Es lesen: Monika Dlugosch\, Emily Lüpken\, Oliver Rachner un
 d Achim Seiffarth\n 	Datum: Donnerstag\, 21.11.2024 \n 	Uhrzeit: 19:00 (Ei
 nlass ab 18:30) \n 	Ort: Raum 007 (Saal\, EG)\,\nStadtteilzentrum Bürgerw
 ache\, Rolandstraße 16\, 33615 Bielefeld \n 	Tel.: 0521-132737 \n 	Mail: 
 kultur@bi-buergerwache.de\n 	Web: bi-buergerwache.de\nEine Veranstaltung d
 es Verbands deutscher Schriftstellerinnen und Schriftsteller in ver.di\nin
  Kooperation mit der Bürgerinitiative Bürgerwache e.V.\n
ATTACH;FMTTYPE=image/jpeg:https://www.lilabi.net/wp-content/uploads/2024/1
 0/KLEIN_Plakat-Stimmen-version2_2024_09_10-1.jpg
CATEGORIES:Lesung
LOCATION:Bürger*innenwache Siegfriedplatz\, Rolandstr. 16\, 33615 Bielefel
 d\, Deutschland
X-APPLE-STRUCTURED-LOCATION;VALUE=URI;X-ADDRESS=Rolandstr. 16\, 33615 Biele
 feld\, Deutschland;X-APPLE-RADIUS=100;X-TITLE=Bürger*innenwache Siegfried
 platz:geo:0,0
END:VEVENT
BEGIN:VTIMEZONE
TZID:Europe/Berlin
X-LIC-LOCATION:Europe/Berlin
BEGIN:STANDARD
DTSTART:20241027T020000
TZOFFSETFROM:+0200
TZOFFSETTO:+0100
TZNAME:CET
END:STANDARD
END:VTIMEZONE
END:VCALENDAR