BEGIN:VCALENDAR
VERSION:2.0
PRODID:-//wp-events-plugin.com//7.2.3.1//EN
TZID:Europe/Berlin
X-WR-TIMEZONE:Europe/Berlin
BEGIN:VEVENT
UID:3413@lilabi.net
DTSTART;TZID=Europe/Berlin:20201209T190000
DTEND;TZID=Europe/Berlin:20201209T210000
DTSTAMP:20200712T085613Z
URL:https://www.lilabi.net/events/lasst-uns-reden-ueber-literatur-8/
SUMMARY:Lasst uns reden - über Literatur
DESCRIPTION:So geht’s: Wer mag\, bringt einen Roman\, eine Erzählung ode
 r ein Gedicht mit und liest vor. Oder Ihr erzählt einfach von einem Buch\
 , von Schriftsteller*innen\, die Euch grade wichtig sind. Eine Viertelstun
 de könnt Ihr gestalten\, wie Ihr mögt. Danach reden wir darüber. Es ist
  ein Experiment\, weil es sich einfach entwickeln kann und es kein festes 
 Programm gibt. Was passiert\, hängt davon ab\, was Ihr mitbringt und was 
 Ihr zu sagen habt.\n\nAlle haben etwas zu sagen\, alle können mitreden. W
 eil es an irgendeiner Stelle immer etwas gibt\, was Menschen berührt\, si
 e bewegt\, wo sie sich wiedererkennen\, was sie an etwas erinnert\, wo Men
 schen für sich etwas herausfinden\, wo es etwas Gemeinsames zu entdecken 
 gibt. Und genau dazu sind Geschichten da. Dazu werden sie erzählt.\n\nEin
 e Anmeldung ist nicht nötig\, wir freuen uns auf fröhliche und nachdenkl
 iche Geschichten\, spannende\, schöne\, laute oder leise Überraschungen.
  Der Eintritt ist frei.\n\nWichtig ist noch: Es ist kein Wettbewerb. Die e
 inzige Herausforderung ist\, in 15 Minuten andere Menschen für etwas zu b
 egeistern. Wir würden uns freuen\, wenn jede*r mit einem neuen Gedanken n
 ach Hause geht.\n\nWer mitreden oder mitlauschen möchte\, ist herzlich wi
 llkommen.\nKommt vorbei. Bringt mit\, was Euch bewegt. Macht mit.\n\nWir f
 reuen uns auf Euch!\n\nEURE FAU BIELEFELD
LOCATION:FAU-Lokal\, Metzer Straße 20\, Bielefeld\, Deutschland
X-APPLE-STRUCTURED-LOCATION;VALUE=URI;X-ADDRESS=Metzer Straße 20\, Bielefe
 ld\, Deutschland;X-APPLE-RADIUS=100;X-TITLE=FAU-Lokal:geo:0,0
END:VEVENT
BEGIN:VTIMEZONE
TZID:Europe/Berlin
X-LIC-LOCATION:Europe/Berlin
BEGIN:STANDARD
DTSTART:20201025T020000
TZOFFSETFROM:+0200
TZOFFSETTO:+0100
TZNAME:CET
END:STANDARD
END:VTIMEZONE
END:VCALENDAR