BEGIN:VCALENDAR
VERSION:2.0
PRODID:-//wp-events-plugin.com//7.2.3.1//EN
TZID:Europe/Berlin
X-WR-TIMEZONE:Europe/Berlin
BEGIN:VEVENT
UID:3434@lilabi.net
DTSTART;TZID=Europe/Berlin:20200828T180000
DTEND;TZID=Europe/Berlin:20200828T220000
DTSTAMP:20200826T071017Z
URL:https://www.lilabi.net/events/kundgebung-zusammen-gegen-rassistische-p
 olizeigewalt/
SUMMARY:Kundgebung „Zusammen gegen rassistische Polizeigewalt“
DESCRIPTION:Kundgebung „Zusammen gegen rassistische Polizeigewalt“\n\nF
 reitag 28.08.2020\, 18 Uhr Kesselbrink\n\nAm Sonntagabend (23.08.) kam es 
 auf dem Kesslbrink erneut zu einer rassistischen Polizeikontrolle. Zwei Pe
 rsonen wurden ohne ersichtlichen Anlass von einer Polizeistreife aufgeford
 ert\, ihre Personalien vorzuzeigen. Als die Personen darauf bestanden\, de
 n Grund für die Kontrolle zu erfahren\, wurde mit massiver Gewalt gegen s
 ie vorgegangen. Eine Person wurde dabei blutig verletzt und trug Verletzun
 gen an Arm und Oberkörper davon. Immer wieder kommt es auf dem Kesselbrin
 k zu rassistischen Polizeikontrollen\, bei denen Menschen aufgrund ihrer H
 autfarbe oder ihrer zugeschriebenen Herkunft polizeilicher Willkür\, Erni
 edrigung und Repression ausgesetzt sind. Immer wieder kommt es dabei auch 
 zu massiver Gewalt gegen die Betroffenen. Im Nachgang werden die Betroffen
 en mit Anzeigen überzogen und sollen so zum Schweigen gebracht werden. Wi
 r nehmen das nicht länger hin! Lasst die Betroffenen nicht allein - kommt
  am Freitag zur Kundgebung!\n\nNo Justice No Peace No Racist Police
CATEGORIES:Kundgebung
LOCATION:\, \, 
X-APPLE-STRUCTURED-LOCATION;VALUE=URI;X-ADDRESS=\, ;X-APPLE-RADIUS=100;X-TI
 TLE=:geo:0,0
END:VEVENT
BEGIN:VTIMEZONE
TZID:Europe/Berlin
X-LIC-LOCATION:Europe/Berlin
BEGIN:DAYLIGHT
DTSTART:20200329T030000
TZOFFSETFROM:+0100
TZOFFSETTO:+0200
TZNAME:CEST
END:DAYLIGHT
END:VTIMEZONE
END:VCALENDAR