BEGIN:VCALENDAR
VERSION:2.0
PRODID:-//wp-events-plugin.com//7.2.3.1//EN
TZID:Europe/Berlin
X-WR-TIMEZONE:Europe/Berlin
BEGIN:VEVENT
UID:4832@lilabi.net
DTSTART;TZID=Europe/Berlin:20231008T133000
DTEND;TZID=Europe/Berlin:20231008T180000
DTSTAMP:20231002T131740Z
URL:https://www.lilabi.net/events/kundgebung-genug-spaziert-kein-raum-fuer
 -rechte-hetze-verschwoerungsmythen-3/
SUMMARY:Kundgebung: „Genug spaziert! – Kein Raum für rechte Hetze &amp
 \; Verschwörungsmythen“
DESCRIPTION:Kundgebung gegen rechte Hetze &amp\; Verschwörungsmythen – g
 egen Bielefeld steht auf\nSeit mehr als zwei Jahren organisiert die versch
 wörungsideologische Gruppe „Bielefeld steht auf“ Demonstrationen in B
 ielefeld. Dem Aufruf von „Bielefeld steht auf“ folgen jedem ersten Fre
 itag im Monat zwischen 250 und 400 Verschwörungsgläubige\, Klimaleugner*
 innen\, Putin-Fans\, Reichsbewegte\, AfD-Mitglieder und immer wieder auch 
 Neonazis aus OWL\, dem Münsterland und Südniedersachsen. Sie laufen mit 
 Friedensfahnen\, Deutschland-Flaggen und Lichterketten durch die Stadt\, o
 ft erkennt man gar nicht\, wer da eigentlich warum demonstriert.\n\nHört 
 man aber ihren Redebeiträgen zu und liest in ihren Telegramgruppen\, wird
  sehr schnell deutlich\, dass trotz des harmlosen Aussehens hier Menschen 
 laufen\, die antisemitischen und rassistischen Verschwörungsmythen anhän
 gen\, die die Klimakatastrophe leugnen und an Chemtrails glauben. Menschen
 \, die Propaganda von Neonazi-Gruppen und der AfD teilen.\n\nWir wollen es
  nicht länger hinnehmen\, dass rechte Verschwörungsgläubige ungestört 
 durch Bielefeld ziehen. Wir sagen: Keinen Meter für rechte Hetze &amp\; V
 erschwörungsmythen.\nWarum sind die rechts? Von der Plandemie zum großen
  Austausch\nAuf der Straße tragen sie bunte Jacken\, Lichterketten. Auch 
 ein Jura-Professor der Universität Bielefeld zählt zu ihren prominenten 
 Redner*innen. Ihr Anblick erinnert nicht an die Bilder\, die wir sonst von
  rechten Gruppen oder Bewegungen im Kopf haben.\n\nDabei wird oft vergesse
 n\, dass wir einander unsere ideologischen und politischen Überzeugungen 
 nur sehr selten ansehen können. Um zu wissen\, was eine Gruppe oder Beweg
 ung ausmacht\, müssen wir uns mit ihren Inhalten beschäftigen.\n\nIm Cha
 t von „Bielefeld steht auf“ dominieren rechte Themen: die Mitglieder t
 eilen massive Hetze gegen Geflüchtete. Wenn die „Freien Sachsen“ in O
 stdeutschland gegen eine Geflüchteten-Unterkunft demonstrieren\, klatscht
  „Bielefeld steht auf“ Beifall. Sie teilen Beiträge des Compact-Magaz
 ins\, der Identitären Bewegung und der NPD. Es gibt täglich Videos und M
 itteilungen der AfD.\n\nDie Hetze gegen Geflüchtete bedient einen für di
 e Bewegung wichtigen Verschwörungsmythos: die Idee des großen Austauschs
 \, den sich die Verschwörungsgläubigen mit Neonazis und Faschist*innen a
 ller Couleur teilen. Sie leben in der Sorge\, geheime Kräfte arbeiteten a
 n der Auslöschung der Deutschen durch eine gezielte Ansiedlung Nicht-Deut
 scher. Neben Geflüchteten und People of Color kommen so auch Schwule\, Le
 sben\, Trans-\,Inter- und nichtbinäre Personen in den Fokus von „Bielef
 eld steht auf“.\n\nBei „Bielefeld steht auf“ wird befürchtet\, gehe
 ime Kräfte arbeiteten gezielt an der Erziehung der Kinder als homosexuell
  oder transidentitär. Das Ziel sei\, die Kleinfamilie als Keimzelle des V
 olkes abzuschaffen. Die Klimakrise existiert in diesem Weltbild nicht\, si
 e ist nach Überzeugung von „Bielefeld steht auf“ nur eine Lüge\, um 
 ihre Freiheit einzuschränken\, ihnen ihre Verbrenner zu nehmen und die de
 utsche Wirtschaft zu zerstören. Auch wenn sie zum Teil (noch) andere Wort
 e benutzen\, treiben die gleichen Verschwörungsmythen\, die auch Neonazis
  umtreiben\, die Anhänger*innen von „Bielefeld steht auf“ auf die Str
 aße.\nVerschwörungsmythen: sind die nicht harmlos?\nVerschwörungsmythen
  bedienen menschen-feindliche Ideologien. In diesen Mythen werden antisemi
 tische und rassistische Ressentiments in abstruse Erklärungsansätze für
  gesellschaftliche Ereignisse eingebettet. Um diese greifbar und leicht ve
 rständlich zu machen\, werden bestimmte Personen in den Fokus genommen wi
 e die Familie Rothschild\, Georges Soros oder im Zuge der Pandemie Bill Ga
 tes. Diese Personifizierungen sollen komplexe und als unkontrollierbar erl
 ebte Ereignisse wie die Pandemie oder die Klimakatastropheerklärbar mache
 n und Feindbilder liefern\, die konkret angegangen werden können.\n\nDies
  zeigt sich immer wieder auch in massiver Gewalt. Die rechtsterroristische
 n Anschläge der letzten Jahre in München\, Halle\, Hanau oder Christchur
 ch waren alle massiv durch Verschwörungsmythen motiviert. Insbesondere de
 r Mythos der geplanten Vernichtung einer weißen Bevölkerung durch Migrat
 ion und Geflüchtete ist eine entscheidende Erzählung\, die sich in den M
 anifesten der Rechtsterroristen findet. Auch aus der verschwörungsideolog
 ischen Szene der Pandemie-Leugner*innen heraus geschieht immer wieder Gewa
 lt.\n\nBei Demos bundesweit kommt es zu Bedrängungen und Angriffen auf Ge
 gendemonstrierende und Journalist*innen. Auch bei „Bielefeld steht auf
 “ waren solche Übergriffe zu verzeichnen. Wie sehr die ideologische Rad
 ikalisierung durch Verschwörungsmythen Gewaltbereitschaft hervorbringt\, 
 zeigen die Morde von Idar-Oberstein und Senzig im Jahr 2021 deutlich auf. 
 Im September 2021 erschoss ein Pandemie-Leugner den 20-Jährigen Alexander
  W. In einer Tankstelle in Idar-Oberstein\, weil Alexander auf die Einhalt
 ung der damals bestehenden Maskenpflicht bestand. Zwei Monate später ermo
 rdete ein Mann in Senzig seine Frau und 3 Kinder\, weil er sich im Zuge de
 r Pandemie durch eine jüdische Weltverschwörung bedroht sah. Verschwöru
 ngsmythen sind nicht harmlos\, Verschwörungsmythen töten.\nDarum kommt z
 ur Kundgebung\nam 08.10.2023 um 13:30 Uhr\ngegenüber vom alten Rathaus (B
 ielefeld)\nAchtet auf Social Media unter #bi0810 auf aktuelle Informatione
 n zu Ort und Ablauf.\n\nAktionsbündnis: Kein Raum für rechte Hetze und V
 erschwörungsmythen\n\nAktion für Demokratie und Respekt\, Antifa AG an d
 er Universität Bielefeld\, Antifa Camp OWL\, Antifaschistisches Jugend Ca
 fé im Grünen Würfel\, Antifa West\, Antinationale Linke Bielefeld\, ASt
 A der Universität Bielefeld\, BiQueer\, Bündnis gegen Rechts Bielefeld\,
  Bündnis gegen Rechts Minden\, Eulenspiegel Buchhandlung\, fem*ref der Un
 iversität Bielefeld\, Integrationsrat der Stadt Bielefeld\, Interventioni
 stische Linke Bielefeld\, Mondo Buchhandlung\, Seebrücke Bielefeld\, Tran
 sIdent Bielefeld\, Uni:links – Linke Liste\, Wir sind Mehr Bielefeld
ATTACH;FMTTYPE=image/jpeg:https://www.lilabi.net/wp-content/uploads/2023/0
 9/FB_IMG_1695386297699.jpg
CATEGORIES:Kundgebung
LOCATION:Bielefeld\, Rathaus\, Niederwall\, Bielefeld\, NRW\, Ostwestfalen\
 , Deutschland
X-APPLE-STRUCTURED-LOCATION;VALUE=URI;X-ADDRESS=Niederwall\, Bielefeld\, NR
 W\, Ostwestfalen\, Deutschland;X-APPLE-RADIUS=100;X-TITLE=Bielefeld\, Rath
 aus:geo:0,0
END:VEVENT
BEGIN:VTIMEZONE
TZID:Europe/Berlin
X-LIC-LOCATION:Europe/Berlin
BEGIN:DAYLIGHT
DTSTART:20230326T030000
TZOFFSETFROM:+0100
TZOFFSETTO:+0200
TZNAME:CEST
END:DAYLIGHT
END:VTIMEZONE
END:VCALENDAR