BEGIN:VCALENDAR
VERSION:2.0
PRODID:-//wp-events-plugin.com//7.2.3.1//EN
TZID:Europe/Berlin
X-WR-TIMEZONE:Europe/Berlin
BEGIN:VEVENT
UID:4810@lilabi.net
DTSTART;TZID=Europe/Berlin:20230901T183000
DTEND;TZID=Europe/Berlin:20230901T210000
DTSTAMP:20230826T114449Z
URL:https://www.lilabi.net/events/kundgebung-genug-spaziert-kein-raum-fuer
 -rechte-hetze-verschwoerungsmythen-2/
SUMMARY:Kundgebung: „Genug spaziert! – Kein Raum für rechte Hetze &amp
 \; Verschwörungsmythen“
DESCRIPTION:Kundgebung gegen rechte Hetze &amp\; Verschwörungsmythen – g
 egen Bielefeld steht auf\nSeit mehr als zwei Jahren organisiert die versch
 wörungsideologische Gruppe „Bielefeld steht auf“ Demonstrationen in B
 ielefeld. Dem Aufruf von „Bielefeld steht auf“ folgen jedem ersten Fre
 itag im Monat zwischen 250 und 400 Verschwörungsgläubige\, Klimaleugner*
 innen\, Putin-Fans\, Reichsbewegte\, AfD-Mitglieder und immer wieder auch 
 Neonazis aus OWL\, dem Münsterland und Südniedersachsen. Sie laufen mit 
 Friedensfahnen\, Deutschland-Flaggen und Lichterketten durch die Stadt\, o
 ft erkennt man gar nicht\, wer da eigentlich warum demonstriert. Hört man
  aber ihren Redebeiträgen zu und liest in ihren Telegramgruppen\, wird se
 hr schnell deutlich\, dass trotz des harmlosen Aussehens hier Menschen lau
 fen\, die antisemitischen und rassistischen Verschwörungsmythen anhängen
 \, die die Klimakatastrophe leugnen und an Chemtrails glauben. Menschen\, 
 die Propaganda von Neonazi-Gruppen und der AfD teilen. Wir wollen es nicht
  länger hinnehmen\, dass rechte Verschwörungsgläubige ungestört durch 
 Bielefeld ziehen. Wir sagen: Keinen Meter für rechte Hetze &amp\; Verschw
 örungsmythen.\n\n&nbsp\;\nWarum sind die rechts? Von der Plandemie zum gr
 oßen Austausch\nAuf der Straße tragen sie bunte Jacken\, Lichterketten. 
 Auch ein Jura-Professor der Universität Bielefeld zählt zu ihren promine
 nten Redner*innen. Ihr Anblick erinnert nicht an die Bilder\, die wir sons
 t von rechten Gruppen oder Bewegungen im Kopf haben. Dabei wird oft verges
 sen\, dass wir einander unsere ideologischen und politischen Überzeugunge
 n nur sehr selten ansehen können. Um zu wissen\, was eine Gruppe oder Bew
 egung ausmacht\, müssen wir uns mit ihren Inhalten beschäftigen. Im Chat
  von „Bielefeld steht auf“ dominieren rechte Themen: die Mitglieder te
 ilen massive Hetze gegen Geflüchtete. Wenn die „Freien Sachsen“ in Os
 tdeutschland gegen eine Geflüchteten-Unterkunft demonstrieren\, klatscht 
 „Bielefeld steht auf“ Beifall. Sie teilen Beiträge des Compact-Magazi
 ns\, der Identitären Bewegung und der NPD. Es gibt täglich Videos und Mi
 tteilungen der AfD. Die Hetze gegen Geflüchtete bedient einen für die Be
 wegung wichtigen Verschwörungsmythos: die Idee des großen Austauschs\, d
 en sich die Verschwörungsgläubigen mit Neonazis und Faschist*innen aller
  Couleur teilen. Sie leben in der Sorge\, geheime Kräfte arbeiteten an de
 r Auslöschung der Deutschen durch eine gezielte Ansiedlung Nicht-Deutsche
 r. Neben Geflüchteten und People of Color kommen so auch Schwule\, Lesben
 \, Trans-\,Inter- und nichtbinäre Personen in den Fokus von „Bielefeld 
 steht auf“. Bei „Bielefeld steht auf“ wird befürchtet\, geheime Kr
 äfte arbeiteten gezielt an der Erziehung der Kinder als homosexuell oder 
 transidentitär. Das Ziel sei\, die Kleinfamilie als Keimzelle des Volkes 
 abzuschaffen. Die Klimakrise existiert in diesem Weltbild nicht\, sie ist 
 nach Überzeugung von „Bielefeld steht auf“ nur eine Lüge\, um ihre F
 reiheit einzuschränken\, ihnen ihre Verbrenner zu nehmen und die deutsche
  Wirtschaft zu zerstören. Auch wenn sie zum Teil (noch) andere Worte benu
 tzen\, treiben die gleichen Verschwörungsmythen\, die auch Neonazis umtre
 iben\, die Anhänger*innen von „Bielefeld steht auf“ auf die Straße.\
 n\n&nbsp\;\nVerschwörungsmythen: sind die nicht harmlos?\nVerschwörungsm
 ythen bedienen menschen-feindliche Ideologien. In diesen Mythen werden ant
 isemitische und rassistische Ressentiments in abstruse Erklärungsansätze
  für gesellschaftliche Ereignisse eingebettet. Um diese greifbar und leic
 ht verständlich zu machen\, werden bestimmte Personen in den Fokus genomm
 en wie die Familie Rothschild\, Georges Soros oder im Zuge der Pandemie Bi
 ll Gates. Diese Personifizierungen sollen komplexe und als unkontrollierba
 r erlebte Ereignisse wie die Pandemie oder die Klimakatastropheerklärbar 
 machen und Feindbilder liefern\, die konkret angegangen werden können. Di
 es zeigt sich immer wieder auch in massiver Gewalt. Die rechtsterroristisc
 hen Anschläge der letzten Jahre in München\, Halle\, Hanau oder Christch
 urch waren alle massiv durch Verschwörungsmythen motiviert. Insbesondere 
 der Mythos der geplanten Vernichtung einer weißen Bevölkerung durch Migr
 ation und Geflüchtete ist eine entscheidende Erzählung\, die sich in den
  Manifesten der Rechtsterroristen findet. Auch aus der verschwörungsideol
 ogischen Szene der Pandemie-Leugner*innen heraus geschieht immer wieder Ge
 walt. Bei Demos bundesweit kommt es zu Bedrängungen und Angriffen auf Geg
 endemonstrierende und Journalist*innen. Auch bei „Bielefeld steht auf“
  waren solche Übergriffe zu verzeichnen. Wie sehr die ideologische Radika
 lisierung durch Verschwörungsmythen Gewaltbereitschaft hervorbringt\, zei
 gen die Morde von Idar-Oberstein und Senzig im Jahr 2021 deutlich auf. Im 
 September 2021 erschoss ein Pandemie-Leugner den 20-Jährigen Alexander W.
  In einer Tankstelle in Idar-Oberstein\, weil Alexander auf die Einhaltung
  der damals bestehenden Maskenpflicht bestand. Zwei Monate später ermorde
 te ein Mann in Senzig seine Frau und 3 Kinder\, weil er sich im Zuge der P
 andemie durch eine jüdische Weltverschwörung bedroht sah. Verschwörungs
 mythen sind nicht harmlos\, Verschwörungsmythen töten.\nDarum kommt zur 
 Kundgebung \nam 01.09.2023 um 18:30 Uhr \ngegenüber vom alten Rathaus (Bi
 elefeld)\nAktionsbündnis: Kein Raum für rechte Hetze und Verschwörungsm
 ythen\n\nAktion für Demokratie und Respekt\, Antifa AG an der Universitä
 t Bielefeld\, Antifa Camp OWL\, Antifaschistisches Jugend Café im Grünen
  Würfel\, Antifa West\, Antinationale Linke Bielefeld\, AStA der Universi
 tät Bielefeld\, BiQueer\, Bündnis gegen Rechts Bielefeld\, Bündnis gege
 n Rechts Minden\, Eulenspiegel Buchhandlung\, fem*ref der Universität Bie
 lefeld\, Integrationsrat der Stadt Bielefeld\, Interventionistische Linke 
 Bielefeld\, Mondo Buchhandlung\, Seebrücke Bielefeld\, TransIdent Bielefe
 ld\, Uni:links – Linke Liste\, Wir sind Mehr Bielefeld
ATTACH;FMTTYPE=image/jpeg:https://www.lilabi.net/wp-content/uploads/2023/0
 8/IMG_0019.png
CATEGORIES:Kundgebung
LOCATION:gegenüber vom alten Rathaus\, Niederwall\, Bielefeld \, Deutschla
 nd
X-APPLE-STRUCTURED-LOCATION;VALUE=URI;X-ADDRESS=Niederwall\, Bielefeld \, D
 eutschland;X-APPLE-RADIUS=100;X-TITLE=gegenüber vom alten Rathaus:geo:0,0
END:VEVENT
BEGIN:VTIMEZONE
TZID:Europe/Berlin
X-LIC-LOCATION:Europe/Berlin
BEGIN:DAYLIGHT
DTSTART:20230326T030000
TZOFFSETFROM:+0100
TZOFFSETTO:+0200
TZNAME:CEST
END:DAYLIGHT
END:VTIMEZONE
END:VCALENDAR