BEGIN:VCALENDAR
VERSION:2.0
PRODID:-//wp-events-plugin.com//7.2.3.1//EN
TZID:Europe/Berlin
X-WR-TIMEZONE:Europe/Berlin
BEGIN:VEVENT
UID:4430@lilabi.net
DTSTART;TZID=Europe/Berlin:20221010T190000
DTEND;TZID=Europe/Berlin:20221010T203000
DTSTAMP:20220927T174633Z
URL:https://www.lilabi.net/events/kundgebung-gegen-steigende-preise-2022-1
 0-10/
SUMMARY:Kundgebung gegen steigende Preise!
DESCRIPTION:Willst du hungern oder frieren?\nWenn du nicht sparen willst\, 
 nicht hungern willst und nicht frieren willst ist es an der Zeit dem Kurs 
 der Regierung eine Absage zu erteilen! Die Ampel macht es sich bequem: wir
  müssen für IHRE Krisen zahlen\, wir müssen IHRE Kriege finanzieren! Sp
 rit für fast 2 €\, teure Butter\, teures Brot\, teure Milch\, teures Fl
 eisch und dann noch für Rettung von Konzernen mitbezahlen müssen währen
 d andere Milliardengewinne einstreichen? Kalte Schulen während die Deutsc
 he Bank Rekordgewinne verzeichnet und unser Finanzminister Prunkhochzeiten
  feiert?\nWir sagen es reicht! Komm mit uns und demonstriere gegen die Pre
 issteigerungen! Es braucht einen heißen Herbst damit's kein kalter Winter
  wird!
CATEGORIES:Demo,Kundgebung
LOCATION:Jahnplatz\, Jahnplatz\, Bielefeld\, 33602\, Deutschland
X-APPLE-STRUCTURED-LOCATION;VALUE=URI;X-ADDRESS=Jahnplatz\, Bielefeld\, 336
 02\, Deutschland;X-APPLE-RADIUS=100;X-TITLE=Jahnplatz:geo:0,0
END:VEVENT
BEGIN:VTIMEZONE
TZID:Europe/Berlin
X-LIC-LOCATION:Europe/Berlin
BEGIN:DAYLIGHT
DTSTART:20220327T030000
TZOFFSETFROM:+0100
TZOFFSETTO:+0200
TZNAME:CEST
END:DAYLIGHT
END:VTIMEZONE
END:VCALENDAR