BEGIN:VCALENDAR
VERSION:2.0
PRODID:-//wp-events-plugin.com//7.2.3.1//EN
TZID:Europe/Berlin
X-WR-TIMEZONE:Europe/Berlin
BEGIN:VEVENT
UID:5830@lilabi.net
DTSTART;TZID=Europe/Berlin:20241206T180000
DTEND;TZID=Europe/Berlin:20241206T193000
DTSTAMP:20241202T113635Z
URL:https://www.lilabi.net/events/kundgebung-gegen-rechtsextremisten-der-b
 sa/
SUMMARY:Kundgebung gegen Rechtsextremisten der BSA
DESCRIPTION:Genug spaziert! Demo gegen die rechten „Spaziergänger“ von
  'Bielefeld steht auf' (BSA).\nAm 06.12.24 um 18 Uhr gegenüber vom Rathau
 s Bielefeld.\n\n„Zu Nikolaus den Querdullies den Glühwein vermiesen!“
  Diesmal Freitag\, 06.12.24\, um 18 Uhr und am Rathaus Bielefeld. Bei den 
 Querdullies gibt’s Kinderpunsch. Von uns gibt’s die akustische Rute da
 zu. Trotz 'Lichterspaziergang' bleibt es bei denen dunkel. Zieht euch warm
  an! #bi0612\n\n\n\n\n\nSchilder nicht vergessen\, damit die PassantInnen 
 wissen was los ist :-)\n\n\n\n
ATTACH;FMTTYPE=image/jpeg:https://www.lilabi.net/wp-content/uploads/2024/1
 1/bafkreicwqdnpm3fyyvz6i4nix4muih4nsy5ysqu242kd5yfcnt3fcwqa7y.jpg
CATEGORIES:Kundgebung
LOCATION:Bielefeld (gegenüber) Rathausplatz\, Niederwall 12\, Bielefeld\, 
 NRW\, Deutschland
X-APPLE-STRUCTURED-LOCATION;VALUE=URI;X-ADDRESS=Niederwall 12\, Bielefeld\,
  NRW\, Deutschland;X-APPLE-RADIUS=100;X-TITLE=Bielefeld (gegenüber) Ratha
 usplatz:geo:0,0
END:VEVENT
BEGIN:VTIMEZONE
TZID:Europe/Berlin
X-LIC-LOCATION:Europe/Berlin
BEGIN:STANDARD
DTSTART:20241027T020000
TZOFFSETFROM:+0200
TZOFFSETTO:+0100
TZNAME:CET
END:STANDARD
END:VTIMEZONE
END:VCALENDAR