BEGIN:VCALENDAR
VERSION:2.0
PRODID:-//wp-events-plugin.com//7.2.3.1//EN
TZID:Europe/Berlin
X-WR-TIMEZONE:Europe/Berlin
BEGIN:VEVENT
UID:4804@lilabi.net
DTSTART;TZID=Europe/Berlin:20230916T150000
DTEND;TZID=Europe/Berlin:20230916T220000
DTSTAMP:20230817T154812Z
URL:https://www.lilabi.net/events/krieg-den-palaesten/
SUMMARY:Krieg den Palästen
DESCRIPTION:Liebe Freund:innen\, Unterstützer:innen\, Nachbar:innen\,\n\nu
 nsere erste Party als „Hausbesitzer“ im Mai haben wir noch in guter Er
 innerung\, nun schauen wir gespannt in die Zukunft\, genauer auf den 16.09
 .2023\, an dem „unser“ zweites größeres Gartenfestival stattfindet. 
 Wie schon im Mai gibt es alles gegen Spende – vom Eintritt bis hin zum C
 hili sin Carne. Für die musikalische Unterhaltung haben wir ein interessa
 ntes und abwechslungsreiches Package gestaltet und freuen uns selbst schon
  wie Bolle auf die Künstler:innen!\n\nMehr Infos gibts hier: https://plan
 et42org.wordpress.com/
CATEGORIES:Konzert,Küfa,Party
LOCATION:Planet 42\, Hakenort 42\, Bielefeld\, 33609\, Deutschland
X-APPLE-STRUCTURED-LOCATION;VALUE=URI;X-ADDRESS=Hakenort 42\, Bielefeld\, 3
 3609\, Deutschland;X-APPLE-RADIUS=100;X-TITLE=Planet 42:geo:0,0
END:VEVENT
BEGIN:VTIMEZONE
TZID:Europe/Berlin
X-LIC-LOCATION:Europe/Berlin
BEGIN:DAYLIGHT
DTSTART:20230326T030000
TZOFFSETFROM:+0100
TZOFFSETTO:+0200
TZNAME:CEST
END:DAYLIGHT
END:VTIMEZONE
END:VCALENDAR