BEGIN:VCALENDAR
VERSION:2.0
PRODID:-//wp-events-plugin.com//7.2.3.1//EN
TZID:Europe/Berlin
X-WR-TIMEZONE:Europe/Berlin
BEGIN:VEVENT
UID:4439@lilabi.net
DTSTART;TZID=Europe/Berlin:20221103T200000
DTEND;TZID=Europe/Berlin:20221103T235000
DTSTAMP:20221025T092933Z
URL:https://www.lilabi.net/events/krabbelgruppe-presents-malatesta-monotro
 p-possible-damage/
SUMMARY:krabbelgruppe presents MALATESTA\, MONOTROP\, POSSIBLE DAMAGE\, MUL
 TIPLEX
DESCRIPTION:Wir laden euch zu einem wunderschönen Donnerstagaabend mit den
  großartigen Malatesta\, Monotrop und Possible Damage ein.\n\nWie gewohnt
  findet parallel die Donnerstagskneipe statt wo ihr euch vorher lecker veg
 anes Essen holen könnt\n\nEinlass 20uhr\, Beginn 21uhr\n\nKOMMT (SELBST)G
 ETESTET &lt\;3\n\n\nMalatesta (Munich)\nhttps://malatestapunk.bandcamp.com
 \n\nMonotrop (Bremen)\nhttps://monotroppunk.bandcamp.com\n\nPossible Damag
 e (Munster)\nhttps://possibledamage.bandcamp.com/\n\nMultiplex (Munster)\n
 https://multiplexpunk.bandcamp.com
ATTACH;FMTTYPE=image/jpeg:https://www.lilabi.net/wp-content/uploads/2022/1
 0/3.11-final-korrigiert.png
CATEGORIES:Konzert
LOCATION:AJZ Bielefeld\, Heeper Str. 132\, 33607 Bielefeld\, Deutschland
X-APPLE-STRUCTURED-LOCATION;VALUE=URI;X-ADDRESS=Heeper Str. 132\, 33607 Bie
 lefeld\, Deutschland;X-APPLE-RADIUS=100;X-TITLE=AJZ Bielefeld:geo:0,0
END:VEVENT
BEGIN:VTIMEZONE
TZID:Europe/Berlin
X-LIC-LOCATION:Europe/Berlin
BEGIN:STANDARD
DTSTART:20221030T020000
TZOFFSETFROM:+0200
TZOFFSETTO:+0100
TZNAME:CET
END:STANDARD
END:VTIMEZONE
END:VCALENDAR