BEGIN:VCALENDAR
VERSION:2.0
PRODID:-//wp-events-plugin.com//7.2.3.1//EN
TZID:Europe/Berlin
X-WR-TIMEZONE:Europe/Berlin
BEGIN:VEVENT
UID:3739@lilabi.net
DTSTART;TZID=Europe/Berlin:20220623T190000
DTEND;TZID=Europe/Berlin:20220623T210000
DTSTAMP:20220530T125340Z
URL:https://www.lilabi.net/events/konzertreihe-klein-fein/
SUMMARY:Konzertreihe: klein &amp\; fein
DESCRIPTION:»klein &amp\; fein – Konzerte am Biergarten«\n\n&nbsp\;\n\n
 &nbsp\;\n\nEs spielt: ›Matthias Nagel‹\n\n 	Donnerstag: 23. Juni 2022\
 n 	Stadtteilzentrum Bürgerwache\, Rolandstr. 16\, 33615 Bielefeld\n 	Sieg
 friedplatz – am Biergarten der KaffeeWirtschaft – barrierefrei\n 	19:0
 0 Uhr\n 	Eintritt frei / Spenden gerne gesehen\n\n&nbsp\;\n\nDie Kleinkonz
 ertreihe ›klein &amp\; fein‹ geht in die nächste Runde und präsentie
 rt an diesem vierten Donnerstag im Juni ›Matthias Nagel‹.\n\nMatthias 
 Nagel ist ein Singer / Songschreiber\, Sänger und Gitarrist aus Schloss H
 olte-Stukenbrock. Er spielt ausschließlich Eigenkompositionen\, wobei er 
 seinen Gesang selbst auf der Gitarre begleitet.\n\nAngefangen als Straßen
 musiker spielt er heute in Bars\, in kleinen Konzerthallen und auf Festiva
 ls. Seinen musikalischen Stil bezeichnet er selbst als genreübergreifende
 n Folk Pop.\n\n&nbsp\;\n\nAm 25.3 ist sein neues Album »Tomorrow we'll se
 e« bei Timezone Records erschienen.\n\nAngedacht ist Die Konzertreihe ›
 klein &amp\; fein‹ monatlich fortzusetzen. Als Ausweichtermin bei Regen 
 findet das Konzert am Donnerstag\, den 30.06.22 zur gleichen Uhrzeit statt
 .\n\n&nbsp\;
ATTACH;FMTTYPE=image/jpeg:https://www.lilabi.net/wp-content/uploads/2022/0
 5/1-Matthias-Nagel-klein.jpg
CATEGORIES:Konzert
LOCATION:Bielefeld\, Bürgerwache am Siegfriedplatz\, Siegfriedplatz\, Rola
 ndstraße\, Bielefeld\, NRW\, 33615\, Deutschland
X-APPLE-STRUCTURED-LOCATION;VALUE=URI;X-ADDRESS=Siegfriedplatz\, Rolandstra
 ße\, Bielefeld\, NRW\, 33615\, Deutschland;X-APPLE-RADIUS=100;X-TITLE=Bie
 lefeld\, Bürgerwache am Siegfriedplatz:geo:0,0
END:VEVENT
BEGIN:VTIMEZONE
TZID:Europe/Berlin
X-LIC-LOCATION:Europe/Berlin
BEGIN:DAYLIGHT
DTSTART:20220327T030000
TZOFFSETFROM:+0100
TZOFFSETTO:+0200
TZNAME:CEST
END:DAYLIGHT
END:VTIMEZONE
END:VCALENDAR