BEGIN:VCALENDAR
VERSION:2.0
PRODID:-//wp-events-plugin.com//7.2.3.1//EN
TZID:Europe/Berlin
X-WR-TIMEZONE:Europe/Berlin
BEGIN:VEVENT
UID:1433@lilabi.net
DTSTART;TZID=Europe/Berlin:20181127T200000
DTEND;TZID=Europe/Berlin:20181127T230000
DTSTAMP:20180914T173124Z
URL:https://www.lilabi.net/events/konzert-im-anaconda-luna-neptune-chuck-s
 j/
SUMMARY:Konzert im Anaconda: Luna Neptune + Chuck SJ
DESCRIPTION:Nach langer Zeit findet einmal wieder ein Konzert im Café Anac
 onda (Raum U2-155 im Uni-Hauptgebäude) statt.*\nSpielen werden die Solok
 ünstler*innen Chuck SJ und Luna Neptune aus England.\nWir freuen uns 
 auf euch. &#x2665\;\n----------------------------------\n*es gilt die Einl
 adungspolitik die hier nachzulesen ist: Eingeladen sind – mit der Ausnah
 me von Cis-Männern1 – alle Personen\, die sich mit einem queerfeministi
 schen Freiraum identifizieren und dort wohl fühlen. Das können zum Beisp
 iel Frauen\, Lesben\, Trans- oder Inter-Personen\, Queers\, etc. sein. Ob 
 das Anaconda für dich der richtige Raum ist\, entscheidest du letztlich s
 elbst. Wir erwarten aber von allen\, die Einladungspolitik zu berücksicht
 igen. Das heißt auch\, die geschlechtliche Identität oder geschlechtlich
 e Verortung anderer unabhängig von ihrer äußeren Erscheinung zu respekt
 ieren.\n\n1 Cis-Männer sind Personen\, denen bei der Geburt das männlich
 e Geschlecht zugewiesen wurde und die sich heute diesem auch zugehörig f
 ühlen.
CATEGORIES:Konzert
LOCATION:Café Anaconda (Universität | Raum U2-155)\, Universitätsstr. 25
 \, Bielefeld\, 33615\, Deutschland
X-APPLE-STRUCTURED-LOCATION;VALUE=URI;X-ADDRESS=Universitätsstr. 25\, Biel
 efeld\, 33615\, Deutschland;X-APPLE-RADIUS=100;X-TITLE=Café Anaconda (Uni
 versität | Raum U2-155):geo:0,0
END:VEVENT
BEGIN:VTIMEZONE
TZID:Europe/Berlin
X-LIC-LOCATION:Europe/Berlin
BEGIN:STANDARD
DTSTART:20181028T020000
TZOFFSETFROM:+0200
TZOFFSETTO:+0100
TZNAME:CET
END:STANDARD
END:VTIMEZONE
END:VCALENDAR