BEGIN:VCALENDAR
VERSION:2.0
PRODID:-//wp-events-plugin.com//7.2.3.1//EN
TZID:Europe/Berlin
X-WR-TIMEZONE:Europe/Berlin
BEGIN:VEVENT
UID:4438@lilabi.net
DTSTART;TZID=Europe/Berlin:20221023T170000
DTEND;TZID=Europe/Berlin:20221023T200000
DTSTAMP:20221004T125400Z
URL:https://www.lilabi.net/events/konzert-dishonor-downwinder-crust/
SUMMARY:Konzert: Dishonor\, Downwinder (CRUST)
DESCRIPTION:Einlass 17 Uhr\nBeginn 17:30\n\nEs wird wahrscheinlich Kuchen g
 egen Spende geben!\n\nDishonör - Crust / D-Beat\, Thessaloniki GR\nhttps:
 //dishonorcrust.bandcamp.com/\n\nDownwinder - Crust / D-Beat\, Volos GR\nh
 ttps://downwinder.bandcamp.com
CATEGORIES:Konzert
LOCATION:AJZ Bielefeld\, Heeper Str. 132\, 33607 Bielefeld\, Deutschland
X-APPLE-STRUCTURED-LOCATION;VALUE=URI;X-ADDRESS=Heeper Str. 132\, 33607 Bie
 lefeld\, Deutschland;X-APPLE-RADIUS=100;X-TITLE=AJZ Bielefeld:geo:0,0
END:VEVENT
BEGIN:VTIMEZONE
TZID:Europe/Berlin
X-LIC-LOCATION:Europe/Berlin
BEGIN:DAYLIGHT
DTSTART:20220327T030000
TZOFFSETFROM:+0100
TZOFFSETTO:+0200
TZNAME:CEST
END:DAYLIGHT
END:VTIMEZONE
END:VCALENDAR