BEGIN:VCALENDAR
VERSION:2.0
PRODID:-//wp-events-plugin.com//7.2.3.1//EN
TZID:Europe/Berlin
X-WR-TIMEZONE:Europe/Berlin
BEGIN:VEVENT
UID:4766@lilabi.net
DTSTART;TZID=Europe/Berlin:20230609T190000
DTEND;TZID=Europe/Berlin:20230609T234500
DTSTAMP:20230605T123516Z
URL:https://www.lilabi.net/events/kneipe-duenne-decke-2023-06-09/
SUMMARY:Kneipe Dünne-Decke
DESCRIPTION:Kneipe Dünne-Decke\n\nAus diesem Grund stellt das Projekt "Pla
 net 42" Räumlichkeiten zur Verfügung\, in der wir ungezwungen mit Geträ
 nken zu Spendenpreisen zusammenkommen können. Die "Dünne-Decke" soll daz
 u dienen\, auch mal abseits des Uni-Alltags informell und finanzierbar zus
 ammenzukommen. Rum-Cola für 6€ kann sich schließlich nicht jeder leist
 en.\n\nTermine für die "Dünne-Decke":\n\nFr. 09.06.23 ab 19 Uhr\n\nFr. 1
 6.06.23 ab 19 Uhr\n\nFr. 23.06.23 ab 19 Uhr\n\nFr. 07.07.23 ab 19 Uhr\n\nF
 r. 21.07.23 ab 19 Uhr\n\nWeitere folgen!\n\nAdresse: Hakenort 42 in 33609 
 Bielefeld
ATTACH;FMTTYPE=image/jpeg:https://www.lilabi.net/wp-content/uploads/2023/0
 6/fikus.jpg
CATEGORIES:Austausch/Vernetzung,Kneipe
LOCATION:Planet 42\, Hakenort 42\, Bielefeld\, 33609\, Deutschland
X-APPLE-STRUCTURED-LOCATION;VALUE=URI;X-ADDRESS=Hakenort 42\, Bielefeld\, 3
 3609\, Deutschland;X-APPLE-RADIUS=100;X-TITLE=Planet 42:geo:0,0
END:VEVENT
BEGIN:VTIMEZONE
TZID:Europe/Berlin
X-LIC-LOCATION:Europe/Berlin
BEGIN:DAYLIGHT
DTSTART:20230326T030000
TZOFFSETFROM:+0100
TZOFFSETTO:+0200
TZNAME:CEST
END:DAYLIGHT
END:VTIMEZONE
END:VCALENDAR