BEGIN:VCALENDAR
VERSION:2.0
PRODID:-//wp-events-plugin.com//7.2.3.1//EN
TZID:Europe/Berlin
X-WR-TIMEZONE:Europe/Berlin
BEGIN:VEVENT
UID:6453@lilabi.net
DTSTART;TZID=Europe/Berlin:20251206T150000
DTEND;TZID=Europe/Berlin:20251206T173000
DTSTAMP:20251114T133205Z
URL:https://www.lilabi.net/events/knastkundgebung-fuer-luca-9/
SUMMARY:Knastkundgebung für Luca
DESCRIPTION:Dieses Mal am ersten Samstag im Dezember! Fahrt alle am letzten
  Wochenende im November nach Gießen und verhindert die Gründung der AFD-
 Jugend!\n\nWie schon in den letzten Monaten gehen wir auch im Oktober wied
 er gemeinsam zum Knast!\n\nLuca sitzt nun schon seit neun Monaten im Knast
  in Bielefeld. Ihr wird vorgeworfen Nazis in Budapest angegriffen zu haben
 . Wir stehen solidarisch an ihrer Seite und grüßen alle Gefangenen.\n\nK
 ommt um 15 Uhr zur JVA Brackwede!\n\nMögliche Busanreise: Linie 88 – 14
 :50 Uhr Jahnplatz (Steig C) // Schaut nochmal nach\, ob der Bus tatsächli
 ch fährt – tut euch zusammen\, bildet Fahrgemeinschaften oder kommt mit
  dem Rad.\n\nWeitere Infos:\n\nhttps://www.solibielefeld.noblogs.org/\nhtt
 ps://www.basc.news/\n\n&nbsp\;
ATTACH;FMTTYPE=image/jpeg:https://www.lilabi.net/wp-content/uploads/2025/0
 6/stickerluca-300x221-1.jpg
CATEGORIES:Kundgebung,Soli
LOCATION:Vor der JVA Bielefeld Brackwede\, Umlostr. 100\, Bielefeld\, Deuts
 chland
X-APPLE-STRUCTURED-LOCATION;VALUE=URI;X-ADDRESS=Umlostr. 100\, Bielefeld\, 
 Deutschland;X-APPLE-RADIUS=100;X-TITLE=Vor der JVA Bielefeld Brackwede:geo
 :0,0
END:VEVENT
BEGIN:VTIMEZONE
TZID:Europe/Berlin
X-LIC-LOCATION:Europe/Berlin
BEGIN:STANDARD
DTSTART:20251026T020000
TZOFFSETFROM:+0200
TZOFFSETTO:+0100
TZNAME:CET
END:STANDARD
END:VTIMEZONE
END:VCALENDAR