BEGIN:VCALENDAR
VERSION:2.0
PRODID:-//wp-events-plugin.com//7.2.3.1//EN
TZID:Europe/Berlin
X-WR-TIMEZONE:Europe/Berlin
BEGIN:VEVENT
UID:4731@lilabi.net
DTSTART;TZID=Europe/Berlin:20230508T200000
DTEND;TZID=Europe/Berlin:20230508T213000
DTSTAMP:20230504T123409Z
URL:https://www.lilabi.net/events/klimaschutz-und-arbeitskampf/
SUMMARY:Klimaschutz und Arbeitskampf
DESCRIPTION:Klimaschutz und Arbeitskampf. Vortrag und Diskussion mit dem of
 fenen antikapitalistischen Klimatreffen Köln.\nImmer wieder wird darüber
  geredet\, dass der Kampf für Klimagerechtigkeit mit Arbeitskämpfen in d
 en jeweiligen Sektoren verbunden werden muss. Doch auch wenn hierzu wichti
 ge Vorstöße wie die gemeinsame Mobilisierung von Ver.di und Fridays for 
 Future passiert sind\, fehlt es den meisten an Ideen\, wie diese Verbindun
 g konkret aussehen kann.\nÜber genau diese Frage wird das offene antikapi
 talistische Klimatteffen Köln beim nächsten Roten Montag am 08.05.2023 s
 prechen und mit den Anwesenden diskutieren. Die Genoss*innen werden dabei 
 über ihre Vernetzungsarbeit mit Beschäftigten von RWE\, Bosch\, Verkehrs
 betrieben und vielem mehr berichten\, im Anschluss wollen wir zu einem Aus
 tausch darüber kommen\, inwiefern diese Praxis auch für uns in Bielefeld
  eine Perspektive bieten kann.\nEine Veranstaltung im Rahmen des Roten Mon
 tags. Organisiert von der Interventionistischen Linken Bielefeld.\n\nweite
 re Infos bei instagram unter:\n\n@il_bielefeld\, @klimatreffen_koeln\, @Ro
 ter Montag Bielefeld\n\n&nbsp\;
ATTACH;FMTTYPE=image/jpeg:https://www.lilabi.net/wp-content/uploads/2023/0
 5/RoMo-Mai-2023.jpg
CATEGORIES:Austausch/Vernetzung,Diskussion,Vortrag
LOCATION:Extra Blues Bar\, Kreuzstraße 6\, 33602 Bielefeld\, Deutschland
X-APPLE-STRUCTURED-LOCATION;VALUE=URI;X-ADDRESS=Kreuzstraße 6\, 33602 Biel
 efeld\, Deutschland;X-APPLE-RADIUS=100;X-TITLE=Extra Blues Bar:geo:0,0
END:VEVENT
BEGIN:VTIMEZONE
TZID:Europe/Berlin
X-LIC-LOCATION:Europe/Berlin
BEGIN:DAYLIGHT
DTSTART:20230326T030000
TZOFFSETFROM:+0100
TZOFFSETTO:+0200
TZNAME:CEST
END:DAYLIGHT
END:VTIMEZONE
END:VCALENDAR