BEGIN:VCALENDAR
VERSION:2.0
PRODID:-//wp-events-plugin.com//7.2.3.1//EN
TZID:Europe/Berlin
X-WR-TIMEZONE:Europe/Berlin
BEGIN:VEVENT
UID:3478@lilabi.net
DTSTART;TZID=Europe/Berlin:20210310T193000
DTEND;TZID=Europe/Berlin:20210311T210000
DTSTAMP:20210111T075005Z
URL:https://www.lilabi.net/events/klima-filmkreis-2021-03-10/
SUMMARY:Klima-Filmkreis
DESCRIPTION:Herzliche Einladung zu unserem Klima-Filmkreis! \n\nWas ist ein
  Filmkreis?\nÄhnlich wie bei einem Lesekreis möchten wir hier ab und zu 
 zusammenkommen und einen Film zum Thema Klimagerechtigkeit diskutieren.\nW
 ie kann ich mitmachen?\n- Vor den Online-Meetings zum angegebenen Datum so
 lltest du den Film selbst geschaut haben und gerne all deine Anregungen mi
 t in unser Treffen bringen. Die Filme sind alle online frei zugänglich (d
 ie Links findest du bei den jeweiligen Filmbeschreibungen).\n- Du musst na
 türlich nicht an allen Terminen teilnehmen\, sondern kannst dir auch einf
 ach einen oder mehrere Filme raussuchen\, die dich besonders interessieren
 \n- Anmelden solltest du dich jeweils bis einen Tag vor dem Treffen. Dann 
 bekommst du den Zoom-Link von uns per Mail zugeschickt.\nAnmeldung bitte p
 er Mail an bielefeld@bundjugend-nrw.de oder über unseren Instagram-Accoun
 t @bundjugend_bielefeld.\n\nKlingt gut? Dann ladet gerne auch Freund*innen
  und Familie ein\, es gibt keine Voraussetzungen oder erwartetes „Vorwis
 sen“ zur Teilnahme. Wir freuen uns auf euch!\n\n1) 06.01.21: Ökozid:\nK
 ann man Länder wie Deutschland verklagen\, wenn diese ihren Aufgaben zum 
 Klimaschutz nicht nachkommen? Hat die Natur ein Recht auf Unversehrtheit? 
 "Ökozid" greift diese Fragen in Form eines fiktiven Gerichtsprozesses im 
 Jahr 2034\, vier Jahre vor dem beschlossenen Kohleausstieg\, auf.\n(https:
 //www.daserste.de/.../themenabend.../film/index.html)\n2) 27.01.21: Klimaf
 luch und Klimaflucht:\nOb durch Extremwetter und den ansteigenden Meeressp
 iegel in Indonesien\, das Schmelzen des Permafrosts in Russland oder den W
 assermangel in der Sahel-Zone\, Menschen müssen ihre Heimat verlassen\, w
 eil Folgen des Klimawandels ihnen ein Leben dort nicht mehr möglich mache
 n. Dies zeigt die "Story im Ersten" sehr eindrücklich.\n(https://www.yout
 ube.com/watch?v=NvJCFeGxFAI)\n3) 17.02.21: Still Burning:\nDiese 3-teilige
  Dokureihe zeigt die globalen Zusammenhänge des dieses Jahr ans Netz gega
 ngenen Steinkohlekraftwerks Datteln IV. Sie nimmt uns mit nach Deutschland
 \, Russland und Kolumbien an die zentralen Orte des Widerstands dagegen.\n
 (https://www.youtube.com/watch?v=AovFFUQWa5Q)\n4) 10.03.21.: beyond the re
 d lines:\nIn dieser Dokumentation werden Klimaaktivist*innen aus Frankreic
 h\, Deutschland und den Niederlanden vorgestellt\, die auf unterschiedlich
 ste Art und Weisen auf die verschiedenen Aspekte der Klimakrise aufmerksam
  machen und neue Formen des Zusammenlebens probieren\, auch trotz Demonstr
 ationsverboten zur Zeit der Pariser Klimakonferenz 2015.\n(http://beyondth
 eredlines.org/de/)\n5) 31.03.21: Hambi: Der Kampf um den Hambacher Wald:\n
 2018 verhindern zahlreiche AktivistInnen mit Protesten und Besetzungen die
  Rodung des Hambacher Forstes. Diese Doku zeigt den Alltag der Menschen in
  den Baumhäusern\, ihre Motivation und Aktionsformen und das Aufeinandert
 reffen mit der Polizei. (https://www.youtube.com/watch?v=J-LQuO2qFME&amp\;
 feature=youtu.be)\n6) 21.04.21: Aufschrei der Jugend - Generation "Fridays
  for Future":\nDiese Doku zeigt mitreißend den Verlauf der "Fridays for F
 uture"-Bewegung in Deutschland seit Anfang 2019. Eine Bewegung\, die histo
 rische Streiks organisiert hat\, jedoch auch an ihre Grenzen kommt.\n(http
 s://www.daserste.de/.../aufschrei-der-jugend-video...)\n7) 12.05.21: ???\n
 hier ist Platz für euren Lieblings-Klimagerechtigkeitsfilm: Zusammen besc
 hließen wir den letzten Film der Reihe\n\n
ATTACH;FMTTYPE=image/jpeg:https://www.lilabi.net/wp-content/uploads/2021/0
 1/Share-Pic-Filmkreis1000x1000.jpg
CATEGORIES:Diskussion
END:VEVENT
BEGIN:VTIMEZONE
TZID:Europe/Berlin
X-LIC-LOCATION:Europe/Berlin
BEGIN:STANDARD
DTSTART:20201025T020000
TZOFFSETFROM:+0200
TZOFFSETTO:+0100
TZNAME:CET
END:STANDARD
END:VTIMEZONE
END:VCALENDAR