BEGIN:VCALENDAR
VERSION:2.0
PRODID:-//wp-events-plugin.com//7.2.3.1//EN
TZID:Europe/Berlin
X-WR-TIMEZONE:Europe/Berlin
BEGIN:VEVENT
UID:4426@lilabi.net
DTSTART;TZID=Europe/Berlin:20221006T180000
DTEND;TZID=Europe/Berlin:20221006T193000
DTSTAMP:20220927T124606Z
URL:https://www.lilabi.net/events/klein-fein-konzertreihe/
SUMMARY:klein &amp\; fein - Konzertreihe
DESCRIPTION:»klein &amp\; fein – Abschlusskonzert am Biergarten«\n\nEs 
 spielen: ›Ruth Kordbarlag‹ begleitet von ›Christian Göhring (Rory R
 hoads)‹ \n\n 	Donnerstag: 06. Oktober 2022\n\n\n 	Stadtteilzentrum Bürg
 erwache\, Rolandstr. 16\, 33615 Bielefeld\n 	Siegfriedplatz – am Biergar
 ten der KaffeeWirtschaft – barrierefrei\n 	18:00 Uhr\n 	Eintritt frei / 
 Spenden gerne gesehen\n\nFür gewöhnlich treffen ihre Gäste Ruth Kordbar
 lag in der ›KaffeeWirtschaft‹ der Bürgerwache an.\n\nWer sich hier sc
 hon über gesungene Bestellungsentgegennahmen freut\, hat nun Gelegenheit 
 \n\nmehr von ihr zu hören.\n\nIn Begleitung des Gitarristen Christian Gö
 hring (Rory Rhoads) lässt die Sängerin Ruth Kordbarlag mit ihren eigenen
  Songs am 06.10.2022 ab 18:00 Uhr die musikalische Saison der Biergarten-K
 onzert-Reihe \n\n»klein &amp\; fein« ausklingen.\n\nFür ihre Songs bedi
 ent sich Ruth stets dessen\, was sie umgibt und beeinflusst. Ob lyrisch od
 er musikalisch\, ihre Lieder entstehen und wandeln sich hörbar durch und 
 mit jeder Phase ihres Lebens. Immer dabei: viel Gefühl und Seele. Warm ei
 ngepackt und bei hausgemachtem Orangenpunsch lässt es sich entspannt Gesc
 hichten und Klängen lauschen. Fühlen Sie sich herzlich eingeladen!\n\nAl
 s Ausweichtermin bei Regen findet das Konzert am Donnerstag\, den 13.10.20
 22 zur gleichen Uhrzeit statt.
ATTACH;FMTTYPE=image/jpeg:https://www.lilabi.net/wp-content/uploads/2022/0
 9/Ruth-Kordbarlag©Foto-Oliver-Hugo-web.jpg
CATEGORIES:Konzert
LOCATION:Bürger*innenwache Siegfriedplatz\, Rolandstr. 16\, 33615 Bielefel
 d\, Deutschland
X-APPLE-STRUCTURED-LOCATION;VALUE=URI;X-ADDRESS=Rolandstr. 16\, 33615 Biele
 feld\, Deutschland;X-APPLE-RADIUS=100;X-TITLE=Bürger*innenwache Siegfried
 platz:geo:0,0
END:VEVENT
BEGIN:VTIMEZONE
TZID:Europe/Berlin
X-LIC-LOCATION:Europe/Berlin
BEGIN:DAYLIGHT
DTSTART:20220327T030000
TZOFFSETFROM:+0100
TZOFFSETTO:+0200
TZNAME:CEST
END:DAYLIGHT
END:VTIMEZONE
END:VCALENDAR