BEGIN:VCALENDAR
VERSION:2.0
PRODID:-//wp-events-plugin.com//7.2.3.1//EN
TZID:Europe/Berlin
X-WR-TIMEZONE:Europe/Berlin
BEGIN:VEVENT
UID:4738@lilabi.net
DTSTART;TZID=Europe/Berlin:20230525T183000
DTEND;TZID=Europe/Berlin:20230525T200000
DTSTAMP:20230515T130313Z
URL:https://www.lilabi.net/events/klein-fein-konzertreihe-2/
SUMMARY:klein &amp\; fein Konzertreihe
DESCRIPTION:»Klein &amp\; Fein« – Konzerte am Biergarten« Mai 2023\n\n
 Es spielt: ›Selkie Anderson‹\n\n 	Donnerstag: 25. Mai 2023\n 	Stadttei
 lzentrum Bürgerwache\,\nRolandstr. 16\, 33615 Bielefeld\n 	Siegfriedplatz
  – am Biergarten der KaffeeWirtschaft - barrierefrei\n 	18:30 Uhr\n 	Ein
 tritt frei / Spenden gerne gesehen\n\nDie »Klein &amp\; Fein« Konzertrei
 he der Bürgerinitiative Bürgerwache präsentiert im Mai die Harfenspiele
 rin Selkie Anderson.\n\nKeltische Klänge und musikalische Zauberreisen 
 – inspiriert von der Natur\, dem Reich der Legenden und den Abenteuern d
 es Lebens. Mystische Melodien\, verträumte Lieder und Texte mit Tiefgang 
 laden das Publikum dazu ein\, den Alltag hinter sich zu lassen.\n\nSelkie 
 Anderson ist als Musikerin und Sängerin in verschiedensten Welten unterwe
 gs. Mit ihrer Reiseharfe begibt sie sich auf Inspirationssuche an immer wi
 eder neue Orte in der Natur\, insbesondere im Wald und am Meer. So entsteh
 en Songs von Mythen\, Märchen und den Wunder der Welt um uns herum.\n\nEi
 n Konzert erzählt viele zauberhafte Geschichten und reicht von eigenen Li
 edern bis hin zu Folksongs aus dem keltischen und skandinavischen Bereich.
 \n\nDie Konzertreihe »Klein &amp\; Fein« wird monatlich fortgesetzt. \n\
 nBei Regen findet als Ausweichtermin das Konzert am Donnerstag\, den 01.06
 .23 zur gleichen Uhrzeit statt.
ATTACH;FMTTYPE=image/jpeg:https://www.lilabi.net/wp-content/uploads/2023/0
 5/Selkie-Anderson-klein.jpg
CATEGORIES:Konzert
LOCATION:Bürger*innenwache Siegfriedplatz\, Rolandstr. 16\, 33615 Bielefel
 d\, Deutschland
X-APPLE-STRUCTURED-LOCATION;VALUE=URI;X-ADDRESS=Rolandstr. 16\, 33615 Biele
 feld\, Deutschland;X-APPLE-RADIUS=100;X-TITLE=Bürger*innenwache Siegfried
 platz:geo:0,0
END:VEVENT
BEGIN:VTIMEZONE
TZID:Europe/Berlin
X-LIC-LOCATION:Europe/Berlin
BEGIN:DAYLIGHT
DTSTART:20230326T030000
TZOFFSETFROM:+0100
TZOFFSETTO:+0200
TZNAME:CEST
END:DAYLIGHT
END:VTIMEZONE
END:VCALENDAR