BEGIN:VCALENDAR
VERSION:2.0
PRODID:-//wp-events-plugin.com//7.2.3.1//EN
TZID:Europe/Berlin
X-WR-TIMEZONE:Europe/Berlin
BEGIN:VEVENT
UID:4383@lilabi.net
DTSTART;TZID=Europe/Berlin:20220818T180000
DTEND;TZID=Europe/Berlin:20220818T200000
DTSTAMP:20220811T171555Z
URL:https://www.lilabi.net/events/klein-fein-konzerte-am-biergarten-2/
SUMMARY:»klein &amp\; fein – Konzerte am Biergarten«
DESCRIPTION:»klein &amp\; fein – Konzert und Lesung am Biergarten«\n\n
 »klein &amp\; fein« heißt die Reihe\, mit der wir Künstlerinnen und K
 ünstlern aus der Region die Möglichkeit bieten\, sich in einem besondere
 n Rahmen live zu präsentieren. \n\nDiesmal mit einem besonderen Event. Es
  liest: \n\n 	›Hellmuth Opitz‹ (Lyrik) \n\naus seinem neuen Gedichtban
 d: ›Rauschnacht - Flauschnacht‹\n\nund es spielt und begleitet: \n\n 	
 ›Greyhound George‹ (Blues)\n\nWann:\n\n 	Donnerstag: 18. August 2022\n
  	Stadtteilzentrum Bürgerwache\, Rolandstr. 16\, 33615 Bielefeld\n 	Siegf
 riedplatz – am Biergarten der KaffeeWirtschaft – barrierefrei\n 	18:00
  Uhr\n 	Eintritt frei / Spenden gerne gesehen\n\nDie Kleinkonzert- und Kul
 turreihe ›klein &amp\; fein‹ geht in die nächste Runde und präsentie
 rt an diesem dritten Donnerstag im August ein ganz besonderes Erlebnis. \n
 \nEs liest der Lyriker ›Hellmuth Opitz‹ aus seinem neuen Gedichtband: 
 ›Rauschnacht Flauschnacht‹\, musikalisch begleitet von dem Bluesmusike
 r ›Geyhound George‹.\n\n 	Hellmuth Opitz\, geboren 1959\, lebt in Biel
 efeld und veröffentlichte mehrere Gedichtbände. Anfang März erschien de
 r neue Gedichtband: ›Flauschnacht Rauschnacht‹.\nMehr Infos: Hier\n 	 
 Greyhound George wurde 1961 in Bielefeld geboren und spielt bereits seit s
 einer Jugend in Bluesbands. Seit 2007 ist Greyhound George auch als Solok
 ünstler unterwegs.\nMehr Infos: Hier\n\nAls Ausweichtermin bei Regen find
 et das Konzert am Donnerstag\, den 25.08.22 zur gleichen Uhrzeit statt.\n\
 nZur Lesung\n\nUnterhaltsam\, zugänglich\, mit augenzwinkerndem Humor und
  viel Ironie – das sind Attribute\, die die Lesungen von Hellmuth Opitz 
 gut charakterisieren. Das liegt an der austarierten Balance von Wortwitz u
 nd Artistik\, von Melancholie und Sprachmelodie. Hinzu kommt seine charman
 te Moderation zwischen den Gedichten\, die einen ganz eigenen Zauber entfa
 ltet. »Ich möchte\, dass die ZuhörerInnen am Ende der Lesung sagen: Ach
 \, das können Gedichte auch?!«\, so der Autor selbst.\n\nZum neuen Gedic
 htband\n\nHellmuth Opitz hat im Pendragon-Verlag im März seinen neuen Ged
 ichtband ›Flauschnacht Rauschnacht‹ herausgebracht. Ein Titel\, der ei
 nen Zustand aus gelassenem Flow\, magischem Schweben und Trunkenheit auf d
 en Punkt bringt. \n\nIn der Verlagsvorschau heißt es: »Die neuen Gedicht
 e von Hellmuth Opitz kommen erzählerischer daher\, sie bewegen sich dicht
  an der Realität\, verzeichnen Veränderungen in Gesellschaft und der eig
 enen Wirklichkeitswahrnehmung mit seismographischer Genauigkeit und scharf
 em Blick. Die Gedichte verleugnen nicht den Einfluss\, den die Pandemie au
 f das Schreiben hatte und noch hat\, sie entwerfen luzide\, transparente u
 nd melancholische Bilder dafür. Zudem finden relevante Themen wie Natur o
 der Freiheit ebenso ihren Niederschlag wie die spürbaren Verschiebungen i
 m wichtigsten poetischen Werkstoff: der Sprache. Für alle Gedichte von He
 llmuth Opitz gilt grundsätzlich: Sie greifen Wirklichkeitsmomente auf int
 elligente und zugleich elegante Weise auf\, um sie wenige Verse später in
  Magie zu verwandeln\, in unverbrauchte Bilder\, in poetische Schwebestoff
 e\, die sich in Kopf und Herz festsetzen\, umwerfende Liebesgedichte inklu
 sive.« \n\nHellmuth Opitz\, ›Flauschnacht Rauschnacht‹\, Gedichte\, P
 endragon-Verlag\, 120 S.\, Hardcover mit Lesebändchen\, 20 €.\n\n&nbsp\
 ;
ATTACH;FMTTYPE=image/jpeg:https://www.lilabi.net/wp-content/uploads/2022/0
 8/Ankuendigung-HO-GG.jpg
CATEGORIES:Lesung
LOCATION:Bürger*innenwache Siegfriedplatz\, Rolandstr. 16\, 33615 Bielefel
 d\, Deutschland
X-APPLE-STRUCTURED-LOCATION;VALUE=URI;X-ADDRESS=Rolandstr. 16\, 33615 Biele
 feld\, Deutschland;X-APPLE-RADIUS=100;X-TITLE=Bürger*innenwache Siegfried
 platz:geo:0,0
END:VEVENT
BEGIN:VTIMEZONE
TZID:Europe/Berlin
X-LIC-LOCATION:Europe/Berlin
BEGIN:DAYLIGHT
DTSTART:20220327T030000
TZOFFSETFROM:+0100
TZOFFSETTO:+0200
TZNAME:CEST
END:DAYLIGHT
END:VTIMEZONE
END:VCALENDAR