BEGIN:VCALENDAR
VERSION:2.0
PRODID:-//wp-events-plugin.com//7.2.3.1//EN
TZID:Europe/Berlin
X-WR-TIMEZONE:Europe/Berlin
BEGIN:VEVENT
UID:4711@lilabi.net
DTSTART;TZID=Europe/Berlin:20230420T183000
DTEND;TZID=Europe/Berlin:20230420T200000
DTSTAMP:20230331T122457Z
URL:https://www.lilabi.net/events/klein-fein-konzert/
SUMMARY:Klein &amp\; Fein - Konzert
DESCRIPTION:»Klein &amp\; Fein – Konzerte am Biergarten« startet im Apr
 il !\n\n 	Es spielt: ›Spätfrühling‹\n 	Donnerstag: 20. April 2023\n 
 	Stadtteilzentrum Bürgerwache\, Rolandstr. 16\, 33615 Bielefeld\n 	Siegfr
 iedplatz – am Biergarten der KaffeeWirtschaft - barrierefrei\n 	18:30 Uh
 r\n 	Eintritt frei / Spenden gerne gesehen\n\nAuch in diesem Jahr wird das
  Stadtteilzentrum Bürgerwache wieder mit der Konzertreihe »Klein&amp\;Fe
 in« sein Publikum mit ausgewählten Musikevents erfreuen. Zum Auftakt pr
 äsentieren wir die Band ›Spätfrühling‹.\nDie fünf Bandmitglieder 
 – eine Sängerin und vier Musiker – gehören zum klassischen Genre der
  Singer- / Songwriter. Akustik und handgemachte Musik prägen ihre Auftrit
 te. Cajon statt Schlagzeug\, Western-\, statt E-Gitarre\, zweistimmiger Ge
 sang und spielfreudige Solos prägen ihren Sound. Neben ihren eigenen Stü
 cken mit deutschen Texten werden ihre Lieblingssongs kreativ gecovert - vo
 n ›Sting‹\, über ›Element of Crime‹\, bis zu ›Fury in the Slaug
 hterhouse‹. Das alles akustisch\, lebendig und handgemacht.\n\nDie Band 
 ›Spätfrühling‹ sind:\n\nMichael Gotzes: Gitarre\nStephan Knickmeyer:
  Cajon\nJörg Lechthoff: Gitarre &amp\; Gesang\nThomas Pape: Baß\nDörte 
 Steinmann: Gesang\n\nMehr Infos unter: spaetfruehling.de\n\nDie Konzertrei
 he »Klein &amp\; Fein« wird monatlich fortgesetzt.\nBei Regen findet als
  Ausweichtermin das Konzert am Donnerstag\, den 27.04.23 zur gleichen Uhrz
 eit statt.
ATTACH;FMTTYPE=image/jpeg:https://www.lilabi.net/wp-content/uploads/2023/0
 3/23-04-20-Web-Plakat-Spaetfruehling-klein-1.jpg
CATEGORIES:Konzert
LOCATION:Bürger*innenwache Siegfriedplatz\, Rolandstr. 16\, 33615 Bielefel
 d\, Deutschland
X-APPLE-STRUCTURED-LOCATION;VALUE=URI;X-ADDRESS=Rolandstr. 16\, 33615 Biele
 feld\, Deutschland;X-APPLE-RADIUS=100;X-TITLE=Bürger*innenwache Siegfried
 platz:geo:0,0
END:VEVENT
BEGIN:VTIMEZONE
TZID:Europe/Berlin
X-LIC-LOCATION:Europe/Berlin
BEGIN:DAYLIGHT
DTSTART:20230326T030000
TZOFFSETFROM:+0100
TZOFFSETTO:+0200
TZNAME:CEST
END:DAYLIGHT
END:VTIMEZONE
END:VCALENDAR