BEGIN:VCALENDAR
VERSION:2.0
PRODID:-//wp-events-plugin.com//7.2.3.1//EN
TZID:Europe/Berlin
X-WR-TIMEZONE:Europe/Berlin
BEGIN:VEVENT
UID:5609@lilabi.net
DTSTART;TZID=Europe/Berlin:20240504T100000
DTEND;TZID=Europe/Berlin:20240504T143000
DTSTAMP:20240407T081903Z
URL:https://www.lilabi.net/events/kitas-in-bielefeld-was-brauchen-wir-jetz
 t-arbeitstitel/
SUMMARY:KiTa´s in Bielefeld - was brauchen wir jetzt? (Arbeitstitel)
DESCRIPTION:Hallo\n\n&nbsp\;\n\nwir\, B90 / die GRÜNEN Kreisverband Bielef
 eld\, würden gerne am 04.05.2024 die Räumlichkeiten Brot &amp\; Zeit fü
 r eine Podiumsdiskussion nutzen wollen.\n\nGäste des Podiums wären (fix)
 \n\nModeration: Christina Osei MdL\n\n1. Aileen Woestmann MdL\n\n2. Melani
 e Hoffmann (Sprecherin ev. Kirche Bielefeld)\n\n(pending)\n\n3. Ulrich Gö
 dde Bielefelder Falken\n\n4. Tobias Kämper (Friederich von Bodelschwingh)
 \n\nWir würden um\n\n10:00h mit der Begrüßung und Getränken &amp\; sna
 cks starten\n\n11:00h die Podiumsdiskussion starten (ca. 1\,5 Std + 30min 
 Puffer)\n\n12:30h Getränke &amp\; snacks 2.0 mit der Möglichkeit ins Ges
 präch zu kommen\n\n14:00h spätestens Ende der VA\n\n&nbsp\;\n\nwäre das
  umsetzbar in groben Zügen?
CATEGORIES:Podiumsdiskussion
LOCATION:Brot &amp\; Zeit (ehemalige Markuskirche)\,  Kleine Howe 2d\, Biel
 efeld\, NRW\, 33607\, Deutschland
X-APPLE-STRUCTURED-LOCATION;VALUE=URI;X-ADDRESS= Kleine Howe 2d\, Bielefeld
 \, NRW\, 33607\, Deutschland;X-APPLE-RADIUS=100;X-TITLE=Brot & Zeit (ehema
 lige Markuskirche):geo:0,0
END:VEVENT
BEGIN:VTIMEZONE
TZID:Europe/Berlin
X-LIC-LOCATION:Europe/Berlin
BEGIN:DAYLIGHT
DTSTART:20240331T030000
TZOFFSETFROM:+0100
TZOFFSETTO:+0200
TZNAME:CEST
END:DAYLIGHT
END:VTIMEZONE
END:VCALENDAR