BEGIN:VCALENDAR
VERSION:2.0
PRODID:-//wp-events-plugin.com//7.2.3.1//EN
TZID:Europe/Berlin
X-WR-TIMEZONE:Europe/Berlin
BEGIN:VEVENT
UID:4461@lilabi.net
DTSTART;TZID=Europe/Berlin:20221215T203000
DTEND;TZID=Europe/Berlin:20221215T233000
DTSTAMP:20221114T131620Z
URL:https://www.lilabi.net/events/kinokonzert-jamie-stewart-xiu-xiu-usa-sc
 hnurr-bi/
SUMMARY:Kinokonzert: Jamie Stewart / XIU XIU (USA) &amp\; Schnurr (Bi)
DESCRIPTION:XIU XIU aus Kalifornien sind eine der interessantesten Bands de
 r letzten zwei Jahrzente\, einziges ständiges Mitglied ist Jamie Stewart.
  Ihr Sound\, ein unvergleichlicher Mix aus Indie\, avantgardistisch angeha
 uchtem Post-Punk\, elektronischen Soundscapes\, tanzbaren Synthie-Pop-Rhyt
 hmen sowie klassischer und experimenteller Musik. Im Zentrum von allem ste
 ht Jamie Stewarts Stimme mit ihrer eindringlichen Dynamik. Dementsprechend
  beeindruckend sind auch seine Live-Auftritte. In den Songs verarbeitet St
 ewart meist emotionale\, autobiographische (queere) Themen.\nUnd „wenn e
 r nun in ein paar wenigen\, ausgesuchten Solokonzerten runtergestrippte Ve
 rsionen von Xiu Xiu Songs spielen wird\, ist damit der roh und schön stra
 hlende Kern des Xiu Xiu Universums zu erleben.“ (Quelle: Kampnagel). Die
 ses Universum bringt Jamie Stewart nun auch endlich in das Offkino und dam
 it zum ersten Mal nach Bielefeld – yeah!\nZu einem bestimmt sehr besonde
 ren Konzertabend tragen auch Isabel Merten (Mellowdeath) und Sebastian Ges
 ch bei\, die ihn mit „Schnurr“ aus Bielefeld eröffnen und damit auch 
 gleichzeitig ihr Debut geben werden. 8 tiefe Saiten werden sanft gekrault 
 und Marimba- und Vibraphontöne schnarren und klirren.\n// schnurr schnurr
  – miau!\nWebsites:\nhttp://www.xiuxiu.org/\nhttps://www.instagram.com/x
 iuxiuforlife/\nhttps://schnurr.bandcamp.com/
ATTACH;FMTTYPE=image/jpeg:https://www.lilabi.net/wp-content/uploads/2022/1
 1/jamiestewart.jpg
LOCATION:Offkino Bielefeld\, August-Bebel-Str. 94\, Bielefeld\, 33602\, Deu
 tschland
X-APPLE-STRUCTURED-LOCATION;VALUE=URI;X-ADDRESS=August-Bebel-Str. 94\, Biel
 efeld\, 33602\, Deutschland;X-APPLE-RADIUS=100;X-TITLE=Offkino Bielefeld:g
 eo:0,0
END:VEVENT
BEGIN:VTIMEZONE
TZID:Europe/Berlin
X-LIC-LOCATION:Europe/Berlin
BEGIN:STANDARD
DTSTART:20221030T020000
TZOFFSETFROM:+0200
TZOFFSETTO:+0100
TZNAME:CET
END:STANDARD
END:VTIMEZONE
END:VCALENDAR