BEGIN:VCALENDAR
VERSION:2.0
PRODID:-//wp-events-plugin.com//7.2.3.1//EN
TZID:Europe/Berlin
X-WR-TIMEZONE:Europe/Berlin
BEGIN:VEVENT
UID:3428@lilabi.net
DTSTART;TZID=Europe/Berlin:20200829T120000
DTEND;TZID=Europe/Berlin:20200829T150000
DTSTAMP:20200817T152846Z
URL:https://www.lilabi.net/events/key-to-humanity-grenzen-oeffnen-abschieb
 eknaeste-schliessen/
SUMMARY:Key to Humanity: Grenzen öffnen! Abschiebeknäste schließen!
DESCRIPTION:Key to Humanity\nGrenzen öffnen!\nAbschiebeknäste schließen!
 \n\nDemonstration gegen Abschiebehaft 29.08.2020 12:00 Uhr in Paderborn am
 \nWesterntor/ Herz-Jesu-Kirche\n\nWir sagen: Es reicht!!\nAm 30. August st
 arb Rachid Sbaai!\nAm 29. August protestieren wir wie jedes Jahr gegen Abs
 chiebehaft!\nAuf nach Büren!\nLasst uns alle Zellen öffnen!\nGemeinsam f
 ordern wir die Abschaffung der Abschiebehaft!\n\nFreedom Matters!\nAbschie
 behaft ist seit 101 Jahren institutioneller Rassismus. Das\nbedeutet Freih
 eitsentzug\, nur um den menschenverachtenden Akt der Abschiebung effektiv 
 durchsetzen zu können.\nWir lehnen Abschiebehaft ab!\n\nBesonders in „C
 orona-Zeiten“ führt sich das System Abschiebehaft selbst ad absurdum. M
 enschen werden unter schlimmen Bedingungen in Haft genommen um abgeschoben
  zu werden\, ohne dass Abschiebungen tatsächlich stattfinden können.\n\n
 Der größte Abschiebeknast Deutschlands ist in Büren\, ganz in der Nähe
  im Kreis Paderborn.\n\nKey to Humanity! – Grenzen öffnen! – Abschieb
 eknäste schließen!\n\n29. August 2020 Demonstration gegen Abschiebehaft\
 n\nMehr Information:\n1. Abschiebehaft ist Institutioneller Rassismus\nhtt
 ps://buerendemo.net/aufruf-2020/\n\n2. Abschiebehaft und Absonderungshaft 
 in Corona-Zeiten\nhttps://buerendemo.net/aufruf-2020#Corona\n\nEvent-Seit 
 in FB: https://www.facebook.com/events/278864813381311/
CATEGORIES:Demo
LOCATION:Westerntor/ Herz-Jezu-Kirche\, Bahnhofstr. 2\, Paderborn\, 33102\,
  Deutschland
X-APPLE-STRUCTURED-LOCATION;VALUE=URI;X-ADDRESS=Bahnhofstr. 2\, Paderborn\,
  33102\, Deutschland;X-APPLE-RADIUS=100;X-TITLE=Westerntor/ Herz-Jezu-Kirc
 he:geo:0,0
END:VEVENT
BEGIN:VTIMEZONE
TZID:Europe/Berlin
X-LIC-LOCATION:Europe/Berlin
BEGIN:DAYLIGHT
DTSTART:20200329T030000
TZOFFSETFROM:+0100
TZOFFSETTO:+0200
TZNAME:CEST
END:DAYLIGHT
END:VTIMEZONE
END:VCALENDAR