BEGIN:VCALENDAR
VERSION:2.0
PRODID:-//wp-events-plugin.com//7.2.3.1//EN
TZID:Europe/Berlin
X-WR-TIMEZONE:Europe/Berlin
BEGIN:VEVENT
UID:3726@lilabi.net
DTSTART;TZID=Europe/Berlin:20220608T190000
DTEND;TZID=Europe/Berlin:20220608T210000
DTSTAMP:20220527T151638Z
URL:https://www.lilabi.net/events/keupstrasse-ist-ueberall-vortrag-und-dis
 kussion-mit-kutlu-yurtseven/
SUMMARY:"Keupstrasse ist überall" - Vortrag und Diskussion mit Kutlu Yurts
 even
DESCRIPTION:Wie konnte ein rechtsextremes Terror-Trio aus dem Untergrund ze
 hn Menschen ermorden\, zwei Bombenanschläge und zahlreiche Banküberfäll
 e durchführen?\nDer NSU-Prozess ist zwar offiziell abgeschlossen\, hinter
 lässt aber viele ungeklärte Fragen. Es ist anzunehmen\, dass ein breites
  rechtes Netzwerk den NSU finanziert und gedeckt hat. Ein Netzwerk\, dass 
 sich durch Behörden\, Polizei und Verfassungsschutz durchzieht.\nKutlu Yu
 rtseven\, Mitglied der Band ›Microphone Mafia‹\, hat die Initiative 
 ›Keupstraße istüberall‹ (Köln) mitgegründet\, Mitorganisator des N
 SU Tribunals und Teil des Netzwerks ›Kein Schlusstrich‹. Er war zur Ze
 it des Nagelbombenanschlages Anwohner der Keuspstr. und hat einen engen Be
 zug zum ersten Bombenanschlag auf der Kölner Probsteigasse.\n\nKutlu erz
 ählt über die Ermittlungen\, den strukturellen Rassismus dem die Mensche
 n ausgesetzt waren\, das Schweigen in der Gesellschaft\, über den Prozess
 \, der die gewünschte Aufklärung des NSU Komplexes nicht realisiert hat\
 , den respektlosen Umgang vor Gericht und die unglaublichen Demütigungen 
 im Gerichtssaal. Auch über das Netzwerk der Initiativen\, über die Arbei
 t der Initiativen und die Kraft der betroffenen Menschen.\n\nVeranstalter:
 innen // Fachstelle NRWeltoffen im Kreis Herfordund Studienkreis Deutscher
  Widerstand 1933-1945Frankfurt/Main\; Außenstelle OWL in Kooperation mit 
 dem FlaFla\n\n\nDie Vernastaltung findet im Rahmen der Aktionswochen gegen
  Rassismus im Kreis Herford statt.\n\nwww.gegenrechts.info
CATEGORIES:Vortrag
LOCATION:FLA FLA Herford\, Diebrocker Straße 2\, 32051 Herford\, Deutschla
 nd
X-APPLE-STRUCTURED-LOCATION;VALUE=URI;X-ADDRESS=Diebrocker Straße 2\, 3205
 1 Herford\, Deutschland;X-APPLE-RADIUS=100;X-TITLE=FLA FLA Herford:geo:0,0
END:VEVENT
BEGIN:VTIMEZONE
TZID:Europe/Berlin
X-LIC-LOCATION:Europe/Berlin
BEGIN:DAYLIGHT
DTSTART:20220327T030000
TZOFFSETFROM:+0100
TZOFFSETTO:+0200
TZNAME:CEST
END:DAYLIGHT
END:VTIMEZONE
END:VCALENDAR