BEGIN:VCALENDAR
VERSION:2.0
PRODID:-//wp-events-plugin.com//7.2.3.1//EN
TZID:Europe/Berlin
X-WR-TIMEZONE:Europe/Berlin
BEGIN:VEVENT
UID:6211@lilabi.net
DTSTART;TZID=Europe/Berlin:20250608T160000
DTEND;TZID=Europe/Berlin:20250608T173000
DTSTAMP:20250526T140512Z
URL:https://www.lilabi.net/events/kettenreaktion-literarische-lesung-im-bb
 k-atelier-bielefeld-zur-ausstellung/
SUMMARY:„Kettenreaktion“: Literarische Lesung im BBK-Atelier Bielefeld 
 zur Ausstellung \\\\\\\\\\\\\\\\\\\\\\\\\\\\\\\\\\\\\\\\\\\\\\\\\\\\\\\\\\
 \\\\\\\\\\\\\\\\\\\\\\\\\\\\\\\\\\\\\\\\\\\\\\\\\\\\\\\\\\\\\\\\\\\\\\\\\\
 \\\\\\\\\\\\\\\\\\\\\\\\\\\\\\\\\\\\\\\\\\\\\\\\\\\\\\\\\\\\\\\\\\\\\\\\\\
 \\\\\\\\\\\\\\\\\\\\\\\\\\\\\\\\\\\\\\\\\\\\\\\\\\\\\\\\\\\\\\\\\\\\\\\\\\
 \\\\\\\\\\\\\\\\\\\\\\\\\\\\\\\\\\\\\\\\\\\\\\\\\\\\\\\\\\\\\\\\\\\\\\\\\\
 \\\\\\\\\\\\\\\\\\\\\\\\\\\\\\\\\\\\\\\\\\\\\\\\\\\\\\\\\\\\\\\\\\\\\\\\\\
 \\\\\\\\\\\\\\\\\\\\\\\\\\\\\\\\\\\\\\\\\\\\\\\\\\\\\\\\\\\\\\\\\\\\\\\\\\
 \\\\\\\\"Passionen\\\\\\\\\\\\\\\\\\\\\\\\\\\\\\\\\\\\\\\\\\\\\\\\\\\\\\\\
 \\\\\\\\\\\\\\\\\\\\\\\\\\\\\\\\\\\\\\\\\\\\\\\\\\\\\\\\\\\\\\\\\\\\\\\\\\
 \\\\\\\\\\\\\\\\\\\\\\\\\\\\\\\\\\\\\\\\\\\\\\\\\\\\\\\\\\\\\\\\\\\\\\\\\\
 \\\\\\\\\\\\\\\\\\\\\\\\\\\\\\\\\\\\\\\\\\\\\\\\\\\\\\\\\\\\\\\\\\\\\\\\\\
 \\\\\\\\\\\\\\\\\\\\\\\\\\\\\\\\\\\\\\\\\\\\\\\\\\\\\\\\\\\\\\\\\\\\\\\\\\
 \\\\\\\\\\\\\\\\\\\\\\\\\\\\\\\\\\\\\\\\\\\\\\\\\\\\\\\\\\\\\\\\\\\\\\\\\\
 \\\\\\\\\\\\\\\\\\\\\\\\\\\\\\\\\\\\\\\\\\\\\\\\\\\\\\\\\\\\\\\\\\\\\\\\\\
 \\\\\\\\\\"
DESCRIPTION:Inneres und Äußeres im Wechselspiel: Im weit gefassten Thema 
 der Ausstellung „Passionen“ mit ihren vielfältigen Darstellungsformen
  spiegelt sich das pure Leben\, die Frage nach dem Menschsein und auch die
  Frage nach dem Tod. Den bildnerischen Arbeiten von Bahareh Alaeie (Köpfe
 \, Gesichter\, Figuren) und Henning Bock (Skulpturen\, Tuschelavierungen\,
  Radierungen) fügen die Autor*innen das literarische Element hinzu: den l
 yrischen Augenblick\, prosaisches Wortkino\, die sprachkünstlerische Perf
 ormance. Hier kommen etliche Impulse zu einem übergreifenden Miteinander 
 zusammen\, um dem Ruf nach Menschlichkeit Ausdruck zu verleihen. Zusammen 
 mit den Autor*innen spazieren die Zuhörer*innen durch Gedankenwelten und 
 können sich von literarischen und bildlichen Impulsen inspirieren lassen.
  Mit Michael Helm\, Christine Zeides\, Nicolas Bröggelwirth\, Ralf Burnic
 ki und Artur Rosenstern (Herforder Autor*innen-Gruppe).\n\nLesung am Sonnt
 ag\, den 8. Juni\, Beginn: 16.00 Uhr\n\nOrt: Bundesverband Bildender Küns
 tlerinnen und Künstler (BBK-OWL)\, Ravensberger Spinnerei (4. OG)\, Raven
 sberger Park 1\, 33607 Bielefeld\n\n- Eintritt frei -\n\nDer Veranstaltung
 sort ist barrierefrei.
CATEGORIES:Ausstellung,Lesung
END:VEVENT
BEGIN:VTIMEZONE
TZID:Europe/Berlin
X-LIC-LOCATION:Europe/Berlin
BEGIN:DAYLIGHT
DTSTART:20250330T030000
TZOFFSETFROM:+0100
TZOFFSETTO:+0200
TZNAME:CEST
END:DAYLIGHT
END:VTIMEZONE
END:VCALENDAR