BEGIN:VCALENDAR
VERSION:2.0
PRODID:-//wp-events-plugin.com//7.2.3.1//EN
TZID:Europe/Berlin
X-WR-TIMEZONE:Europe/Berlin
BEGIN:VEVENT
UID:5633@lilabi.net
DTSTART;TZID=Europe/Berlin:20240523T183000
DTEND;TZID=Europe/Berlin:20240523T183000
DTSTAMP:20240424T143213Z
URL:https://www.lilabi.net/events/kennenlerntreffen-das-buendnis-decoloniz
 e-bielefeld/
SUMMARY:Kennenlerntreffen: Das Bündnis Decolonize Bielefeld
DESCRIPTION:Als noch junges Bündnis freuen wir uns über neue Gesichter un
 d laden alle ein\, die sich mit der Kolonialgeschichte und ihren Kontinuit
 äten in der Bielefelder Stadtgesellschaft auseinandersetzen wollen. Wir e
 mpfangen Sie mit Snacks und Getränken und freuen uns\, mit Ihnen ins Gesp
 räch zu kommen.
ATTACH;FMTTYPE=image/jpeg:https://www.lilabi.net/wp-content/uploads/2024/0
 4/Kennenlerntreffen-Decolonize.jpg
CATEGORIES:Austausch/Vernetzung,Infoveranstaltung,Sonstiges
LOCATION:Welthaus Bielefeld\, August-Bebel-Str. 62 \, Bielefeld\, Deutschla
 nd
X-APPLE-STRUCTURED-LOCATION;VALUE=URI;X-ADDRESS=August-Bebel-Str. 62 \, Bie
 lefeld\, Deutschland;X-APPLE-RADIUS=100;X-TITLE=Welthaus Bielefeld:geo:0,0
END:VEVENT
BEGIN:VTIMEZONE
TZID:Europe/Berlin
X-LIC-LOCATION:Europe/Berlin
BEGIN:DAYLIGHT
DTSTART:20240331T030000
TZOFFSETFROM:+0100
TZOFFSETTO:+0200
TZNAME:CEST
END:DAYLIGHT
END:VTIMEZONE
END:VCALENDAR