BEGIN:VCALENDAR
VERSION:2.0
PRODID:-//wp-events-plugin.com//7.2.3.1//EN
TZID:Europe/Berlin
X-WR-TIMEZONE:Europe/Berlin
BEGIN:VEVENT
UID:4470@lilabi.net
DTSTART;TZID=Europe/Berlin:20221127T180000
DTEND;TZID=Europe/Berlin:20221127T200000
DTSTAMP:20221122T223601Z
URL:https://www.lilabi.net/events/katar-und-menschenrechte/
SUMMARY:Katar und Menschenrechte
DESCRIPTION:Schlechte Arbeitsbedingungen\, die Unterdrückung von Frauen\, 
 die Verfolgung von Homosexuellen: Katar steht seit Jahren in der Kritik. D
 och das kleine Emirat ist für Westeuropa auch ein großer Investor und Ga
 slieferant. Die Fußball-Weltmeisterschaft 2022 stößt eine überfällige
  Debatte an: Wie können Politik und Sport in Deutschland mit einem autori
 tären Regime zusammenarbeiten\, ohne die eigenen Werte aufzugeben? Eignen
  sich sportliche Großveranstaltungen\, um  Freiheitsrechte in autoritär
 en Staaten zu fördern? Und wie können sich deutsche Vereine sozial gerec
 hter positionieren\, ohne etwa Trikots und Bälle aus asiatischen Niedrigl
 ohnländern zu beziehen? Der Fußball zwischen Gewinnstreben und Gemeinwoh
 l.\n\nEine Veranstaltung der Antinationalen Linken Bielefeld [ALIBI] im Ra
 hmen der Veranstaltungsreihe "Boykott Katar".\n\n&nbsp\;
ATTACH;FMTTYPE=image/jpeg:https://www.lilabi.net/wp-content/uploads/2022/1
 1/layoutfinal-1.jpg
LOCATION:Nr. z. P.\, Große Kurfürstenstraße 81\, Bielefeld\, Deutschland
X-APPLE-STRUCTURED-LOCATION;VALUE=URI;X-ADDRESS=Große Kurfürstenstraße 8
 1\, Bielefeld\, Deutschland;X-APPLE-RADIUS=100;X-TITLE=Nr. z. P.:geo:0,0
END:VEVENT
BEGIN:VTIMEZONE
TZID:Europe/Berlin
X-LIC-LOCATION:Europe/Berlin
BEGIN:STANDARD
DTSTART:20221030T020000
TZOFFSETFROM:+0200
TZOFFSETTO:+0100
TZNAME:CET
END:STANDARD
END:VTIMEZONE
END:VCALENDAR