BEGIN:VCALENDAR
VERSION:2.0
PRODID:-//wp-events-plugin.com//7.2.3.1//EN
TZID:Europe/Berlin
X-WR-TIMEZONE:Europe/Berlin
BEGIN:VEVENT
UID:3713@lilabi.net
DTSTART;TZID=Europe/Berlin:20220520T230000
DTEND;TZID=Europe/Berlin:20220521T080000
DTSTAMP:20220510T192757Z
URL:https://www.lilabi.net/events/kaputtkaputtkaputt-5/
SUMMARY:KaputtKaputtKaputt #5
DESCRIPTION:Hardtekk in der Disco\n\nPunkrock in der Kneipe\n\nSiebdruck gi
 bts auch noch. Bringt also gerne Klamotten mit:)\n\n&nbsp\;\n\nEintritt is
 t gegen Spende :) Und macht bitte vorher einen Coronatest
ATTACH;FMTTYPE=image/jpeg:https://www.lilabi.net/wp-content/uploads/2022/0
 5/kaputt22-web.jpg
CATEGORIES:Party
LOCATION:AJZ Bielefeld\, Heeper Str. 132\, 33607 Bielefeld\, Deutschland
X-APPLE-STRUCTURED-LOCATION;VALUE=URI;X-ADDRESS=Heeper Str. 132\, 33607 Bie
 lefeld\, Deutschland;X-APPLE-RADIUS=100;X-TITLE=AJZ Bielefeld:geo:0,0
END:VEVENT
BEGIN:VTIMEZONE
TZID:Europe/Berlin
X-LIC-LOCATION:Europe/Berlin
BEGIN:DAYLIGHT
DTSTART:20220327T030000
TZOFFSETFROM:+0100
TZOFFSETTO:+0200
TZNAME:CEST
END:DAYLIGHT
END:VTIMEZONE
END:VCALENDAR