BEGIN:VCALENDAR
VERSION:2.0
PRODID:-//wp-events-plugin.com//7.2.3.1//EN
TZID:Europe/Berlin
X-WR-TIMEZONE:Europe/Berlin
BEGIN:VEVENT
UID:4450@lilabi.net
DTSTART;TZID=Europe/Berlin:20221111T230000
DTEND;TZID=Europe/Berlin:20221112T080000
DTSTAMP:20221026T133116Z
URL:https://www.lilabi.net/events/kaputt-party/
SUMMARY:Kaputt Party
DESCRIPTION:Superbesonderes Kaputt-Winterspecial !\n\nPunkbar und Hardtek G
 ebretter ab 23:00\n\nBitte macht vorher einen Coronatest \;)
ATTACH;FMTTYPE=image/jpeg:https://www.lilabi.net/wp-content/uploads/2022/1
 0/kaputt22-winter-web-klein.jpg
CATEGORIES:Party
LOCATION:AJZ Bielefeld\, Heeper Str. 132\, 33607 Bielefeld\, Deutschland
X-APPLE-STRUCTURED-LOCATION;VALUE=URI;X-ADDRESS=Heeper Str. 132\, 33607 Bie
 lefeld\, Deutschland;X-APPLE-RADIUS=100;X-TITLE=AJZ Bielefeld:geo:0,0
END:VEVENT
BEGIN:VTIMEZONE
TZID:Europe/Berlin
X-LIC-LOCATION:Europe/Berlin
BEGIN:STANDARD
DTSTART:20221030T020000
TZOFFSETFROM:+0200
TZOFFSETTO:+0100
TZNAME:CET
END:STANDARD
END:VTIMEZONE
END:VCALENDAR