BEGIN:VCALENDAR
VERSION:2.0
PRODID:-//wp-events-plugin.com//7.2.3.1//EN
TZID:Europe/Berlin
X-WR-TIMEZONE:Europe/Berlin
BEGIN:VEVENT
UID:5902@lilabi.net
DTSTART;TZID=Europe/Berlin:20250516T210000
DTEND;TZID=Europe/Berlin:20250516T235900
DTSTAMP:20250306T131935Z
URL:https://www.lilabi.net/events/judith-hill-family-affair/
SUMMARY:Judith Hill &amp\; Family Affair
DESCRIPTION:Judith Hill / Family Affair (USA)\n\n&amp\; After-Show-Party mi
 t Dj Honest John\n\nFr. 16.05.2025\, Einlass 20:00 Uhr Beginn 21:00 Uhr \n
 \nJovel Münster\n\n[Eintritt: VVK 35\,- / erm. 20\,- / AK 40\,- / erm. 25
 \,- / Bürgergeldmpfänger*innen 1\,- (nur AK) / bis 12 Jahre Eintritt fre
 i] VVK: An allen bekannten Vorverkaufsstellen in Bielefeld\n\nKarten onlin
 e: https://loveyourartist.com/de/profiles/welthaus-ZS9SP6/events\n\nJudith
  Hill: Die Soul-Singer-Songwriterin ist Grammy-Preisträgerin und war Wegg
 efährtin von Prince und Michael Jackson.\n\nSie hat ein paar der ganz Gro
 ßen der Musikwelt schon ganz früh erlebt. Und war an Prominenz schon gew
 öhnt\, bevor sie überhaupt wusste\, was „prominent sein“ bedeutet. J
 udith Hill ist in einem Zuhause aufgewachsen\, in dem die Eltern als Musik
 er ihr Geld verdienten. Hills Mutter Michiko ist Pianistin\, ihr Vater Rob
 ert Bassist. Zusammengespielt haben sie unter anderem mit Bob Dylan\, Wayn
 e Shorter und Chaka Khan. Berühmtheiten gingen bei den Hills ein und aus 
 – um zu proben\, um Musik aufzunehmen und um das ein oder andere Schwät
 zchen zu halten. Was\, so erinnert sich Judith Hill\, Segen und Fluch zugl
 eich war. Zu einem\, weil immer hübsch was los war. Und zum anderen\, wei
 l es so etwas wie ein Familienleben eher selten gab.\n\nAls sie auf der Tr
 auerfeier von Michael Jackson seine Ballade «Heal the World» sang\, wurd
 e sie schlagartig einem internationalen Publikum bekannt. Ihr Debütalbum 
 (2015) wurde dann von niemand geringerem als Prince produziert und auch de
 r Soul- und Popgigant Stevie Wonder holte sie für Aufnahmen an seine Seit
 e. In ihren Songs grübelt sie über Vergnügen\, Schmerz\, Feiern und Kon
 sequenzen nach\, die alle in ihre Sammlung fein gearbeiteter Geschichten i
 n Liedern einfließen. Eine wunderbare autobiografische Reise durch die Mu
 sik\, die sie am meisten liebt: von Funk\, Soul\, R'n'B bis zu ruhigen Jaz
 z-Balladen.\n\nAls Soulsängerin und Songwriterin kann Judith Hill schmett
 ern\, säuseln\, klagen\, und sie hat nicht nur die Stimme\, sondern auch 
 die körperliche Präsenz\, um Bühnen mit Leben und Energie zu füllen.\n
 \nBesetzung\n\nJudith Hill: Piano/Guitar\n\nMichiko Hill: Keyboard/B3\n\n
 Peewee Hill: Bass\n\nJohn Staten: Drums\n\n&nbsp\;\n\nAfter-Show-Party mit
  Dj Honest John\nLondon Night\nWorld Beat\,Reggae trifft Rnb und Hip-Hop.\
 n\n&nbsp\;\n\nVeranstalter Afrika Kooperative Münster e.V. in Kooperation
  mit dem Welthaus Bielefeld\n\nGefördert vom Ministerium für Kultur und 
 Wissenschaft NRW
ATTACH;FMTTYPE=image/jpeg:https://www.lilabi.net/wp-content/uploads/2025/0
 3/2025_Weltnacht_Judith_Hill-1.jpg
CATEGORIES:Konzert
LOCATION:Jovel Münster\, Albersloher Weg 54\,  Münster\, NRW\, 48155\, We
 stfalen\, Deutschland
X-APPLE-STRUCTURED-LOCATION;VALUE=URI;X-ADDRESS=Albersloher Weg 54\,  Müns
 ter\, NRW\, 48155\, Westfalen\, Deutschland;X-APPLE-RADIUS=100;X-TITLE=Jov
 el Münster:geo:0,0
END:VEVENT
BEGIN:VTIMEZONE
TZID:Europe/Berlin
X-LIC-LOCATION:Europe/Berlin
BEGIN:DAYLIGHT
DTSTART:20250330T030000
TZOFFSETFROM:+0100
TZOFFSETTO:+0200
TZNAME:CEST
END:DAYLIGHT
END:VTIMEZONE
END:VCALENDAR