BEGIN:VCALENDAR
VERSION:2.0
PRODID:-//wp-events-plugin.com//7.2.3.1//EN
TZID:Europe/Berlin
X-WR-TIMEZONE:Europe/Berlin
BEGIN:VEVENT
UID:4824@lilabi.net
DTSTART;TZID=Europe/Berlin:20230926T190000
DTEND;TZID=Europe/Berlin:20230926T210000
DTSTAMP:20230925T144809Z
URL:https://www.lilabi.net/events/infoveranstaltung-die-polizei-luegt-demo
 /
SUMMARY:Infoveranstaltung: Die Polizei lügt. Demo
DESCRIPTION:Am 3. Juli wurde der 19-jährige Bilel au Herford von der Poliz
 ei in einer Sackgasse mit 34 Schüssen beschossen. Heute ist er querschnit
 tsgelähmt.\nGrund für diese Gewalt: Das Auto war ohne Licht unterwegs. D
 arauf folgte eine Verfolgungsjagd\, vermutlich weil der Fahrer ohne Führe
 rschein unterwegs war\, die in einer Sackgasse endete. Laut Polizei wurde 
 angeblich aus Notwehr gehandelt. Bodycams und Fahrzeugkameras waren merkw
 ürdigerweise ausgeschaltet. Sie halten 34 Schüsse auf einen jungen Mensc
 hen für gerechtfertigt. Gegen die Polizit*innen wird wegen versuchter Kö
 rperverletzung\, gegen den Betroffenen wegen versuchten Mordes ermittelt.\
 nDies ist kein Einzelfall! Nicht in Herford und auch nicht darüber hinaus
 . Auch dies scheint ein Fall von rassistischer Polizeigewalt zu sein. In W
 ut und Trauer wurde am 15. Juli zu einer Demo in Herford aufgerufen. Es wu
 rde jedoch versucht diese von einem übermäßigen Polizeiaufgebot vollkom
 men zu ersticken. Damit soll die Forderung nach Gerechtigkeit\, Konsequenz
 en und Aufklärung kriminalisiert werden. Und gleiches zeichnet sich wiede
 r ab. Die lokale Presse\, die Polizei und verschiedene Politiker*innen üb
 erschlagen sich derzeit dabei den Protest zu delegitimieren. Sie fordern d
 as Verbot der Demo am 07.10 in Herford.\nWir lassen uns nicht einschüchte
 rn! Wir stehen dem weiter entgegen\, denn wir wollen Antworten und Konsequ
 enzen. Unsere Solidarität und unser Mitgefühl mit dem Betroffenen\, sein
 er Familie und Freund*innen
LOCATION:Nr. z. P.\, Große Kurfürstenstraße 81\, Bielefeld\, Deutschland
X-APPLE-STRUCTURED-LOCATION;VALUE=URI;X-ADDRESS=Große Kurfürstenstraße 8
 1\, Bielefeld\, Deutschland;X-APPLE-RADIUS=100;X-TITLE=Nr. z. P.:geo:0,0
END:VEVENT
BEGIN:VTIMEZONE
TZID:Europe/Berlin
X-LIC-LOCATION:Europe/Berlin
BEGIN:DAYLIGHT
DTSTART:20230326T030000
TZOFFSETFROM:+0100
TZOFFSETTO:+0200
TZNAME:CEST
END:DAYLIGHT
END:VTIMEZONE
END:VCALENDAR