BEGIN:VCALENDAR
VERSION:2.0
PRODID:-//wp-events-plugin.com//7.2.3.1//EN
TZID:Europe/Berlin
X-WR-TIMEZONE:Europe/Berlin
BEGIN:VEVENT
UID:4728@lilabi.net
DTSTART;TZID=Europe/Berlin:20230501T110000
DTEND;TZID=Europe/Berlin:20230501T130000
DTSTAMP:20230428T114414Z
URL:https://www.lilabi.net/events/infostand-zum-1-mai-im-ravensberger-park
 /
SUMMARY:Infostand zum 1. Mai im Ravensberger Park
DESCRIPTION:Am 1.Mai 2023 wird es von der FAU Bielefeld dieses Mal keine ei
 gene Demo geben. Wir sind aber mit einem Infostand ab 11 Uhr im Ravensberg
 er Park vertreten.\nUns ist es wichtig\, als direkt oder indirekt Lohnabh
 ängige zusammenzustehen und uns nicht spalten zu lassen - ob von Chef:inn
 en\, Sachbearbeiter:innen\, Politiker:innen\, Polizist:innen oder Gewerksc
 haftsbossen...\nKlassenkampf statt Sozialpartnerschaft!
ATTACH;FMTTYPE=image/jpeg:https://www.lilabi.net/wp-content/uploads/2023/0
 4/1.Mai_2023_Sharepic_klein.jpg
CATEGORIES:Infoveranstaltung
LOCATION:Ravensberger Park\, Ravensberger Park\, Bielefeld\, Deutschland
X-APPLE-STRUCTURED-LOCATION;VALUE=URI;X-ADDRESS=Ravensberger Park\, Bielefe
 ld\, Deutschland;X-APPLE-RADIUS=100;X-TITLE=Ravensberger Park:geo:0,0
END:VEVENT
BEGIN:VTIMEZONE
TZID:Europe/Berlin
X-LIC-LOCATION:Europe/Berlin
BEGIN:DAYLIGHT
DTSTART:20230326T030000
TZOFFSETFROM:+0100
TZOFFSETTO:+0200
TZNAME:CEST
END:DAYLIGHT
END:VTIMEZONE
END:VCALENDAR