BEGIN:VCALENDAR
VERSION:2.0
PRODID:-//wp-events-plugin.com//7.2.3.1//EN
TZID:Europe/Berlin
X-WR-TIMEZONE:Europe/Berlin
BEGIN:VEVENT
UID:4910@lilabi.net
DTSTART;TZID=Europe/Berlin:20240109T180000
DTEND;TZID=Europe/Berlin:20240109T190000
DTSTAMP:20240105T170619Z
URL:https://www.lilabi.net/events/infoabend-lll-wochenende/
SUMMARY:Infoabend: LLL-Wochenende
DESCRIPTION:Am 13-14.1. ist es wieder soweit: wir fahren zusammen nach Berl
 in zur Rosa-Luxemburg-Konferenz und LLL-Demo. Es erwarten euch spannende V
 orträge und Workshops\, Party\, sowie die größte kommunistische Demonst
 ration Deutschlands mit einem Jugendblock gegen Aufrüstung und Sozialabba
 u.\n\nIn unseren Tickets sind gemeinsame Anreise aus Bielefeld\, Schlafpla
 tz und Konferenz enthalten. Mehr Infos dazu\, wie ihr das Wochenende mit u
 ns verbringen könnt und warum LLL so wichtig ist\, erhaltet ihr auf unser
 em Info-Gruppenabend am 09.1. ab 18 Uhr im DKP-Büro\, August-Bebel-Str. 1
 05! Sonst könnt ihr uns bei Fragen gerne auch eine Nachricht senden.\n\nW
 ir freuen uns auf euch und einen kämpferischen Start ins neue Jahr! ✊
 ️\n\nInsta: sdaj.bielefeld
CATEGORIES:Infoveranstaltung
LOCATION:DKP Büro\, August-Bebel-Straße 105\, Bielefeld\, Deutschland
X-APPLE-STRUCTURED-LOCATION;VALUE=URI;X-ADDRESS=August-Bebel-Straße 105\, 
 Bielefeld\, Deutschland;X-APPLE-RADIUS=100;X-TITLE=DKP Büro:geo:0,0
END:VEVENT
BEGIN:VTIMEZONE
TZID:Europe/Berlin
X-LIC-LOCATION:Europe/Berlin
BEGIN:STANDARD
DTSTART:20231029T020000
TZOFFSETFROM:+0200
TZOFFSETTO:+0100
TZNAME:CET
END:STANDARD
END:VTIMEZONE
END:VCALENDAR