BEGIN:VCALENDAR
VERSION:2.0
PRODID:-//wp-events-plugin.com//7.2.3.1//EN
TZID:Europe/Berlin
X-WR-TIMEZONE:Europe/Berlin
BEGIN:VEVENT
UID:3482@lilabi.net
DTSTART;TZID=Europe/Berlin:20210217T190000
DTEND;TZID=Europe/Berlin:20210217T190000
DTSTAMP:20210128T135102Z
URL:https://www.lilabi.net/events/incels-geschichte-sprache-und-ideologie-
 eines-online-kults-2/
SUMMARY:Incels - Geschichte\, Sprache und Ideologie eines Online-Kults
DESCRIPTION:Eine Lesung mit Veronika Kracher\n\nhttps://www.ventil-verlag.d
 e/titel/1862/incels\n\nBevor Alek Minassian im April 2018 mit einem Auto i
 n eine Menschenmenge in Toronto raste und zehn Menschen ermordete\, hinter
 ließ er auf Facebook folgende Nachricht: »The Incel rebellion has alread
 y begun! All hail the Supreme Gentleman Elliot Rodger!«. Elliot Rodger ha
 tte 2014 auf dem Campus der Universität von Kalifornien in Santa Barbara 
 sechs Menschen getötet und 13 weitere verletzt. Er hinterließ ein über 
 hundert Seiten langes Manifest\, in dem er seine Taten begründete: Sie se
 ien ein Racheakt gegen Frauen\, die ihm Liebe und Sex verweigert und demzu
 folge den Tod verdient hätten.\n\nDies sind nicht die einzigen explizit g
 egen Frauen gerichteten Attentate\, die von sogenannten »Incels« verübt
  worden sind. »Incels« ist die Kurzform für »Involuntary Celibates« 
 – unfreiwillig im Zölibat Lebende. Sie treffen sich in Onlineforen und 
 auf Imageboards und lamentieren darüber\, keinen Sex zu haben\, obwohl di
 eser ein naturgegebenes männliches Grundrecht sei. Im mildesten Falle art
 ikuliert sich ihr Denken in Depressionen und Selbstmitleid\, im schlimmste
 n Falle in der Glorifizierung von Kindesmissbrauch\, sexueller Gewalt oder
  dem Femizid. Incels sind jedoch keine »schwarzen Schafe« oder »Ausnahm
 eerscheinungen« innerhalb der kapitalistisch-patriarchalen Verhältnisse\
 , sondern Ausdruck einer Gesellschaft\, in der die Abwertung des Weibliche
 n an der Tagesordnung ist.\n\nObwohl Incels schon zahlreiche Gewalt- und T
 errorakte begangen haben\, wird das Phänomen gerade im deutschsprachigen 
 Raum bisher nur sehr oberflächlich analysiert. Dieses Buch\, das die Gesc
 hichte der Bewegung nachzeichnet\, die Memes und Sprache der Incels erklä
 rt\, ihre Ideologie analysiert und eine sozialpsychologische Auseinanderse
 tzung mit diesem Online-Kult anstrebt\, wird diese Lücke füllen.\n\nDen 
 Zoom Link gibt es ein paar Tage vorher auf Anfrage unter antifa@fh-asta.de
CATEGORIES:Lesung
END:VEVENT
BEGIN:VTIMEZONE
TZID:Europe/Berlin
X-LIC-LOCATION:Europe/Berlin
BEGIN:STANDARD
DTSTART:20201025T020000
TZOFFSETFROM:+0200
TZOFFSETTO:+0100
TZNAME:CET
END:STANDARD
END:VTIMEZONE
END:VCALENDAR