BEGIN:VCALENDAR
VERSION:2.0
PRODID:-//wp-events-plugin.com//7.2.3.1//EN
TZID:Europe/Berlin
X-WR-TIMEZONE:Europe/Berlin
BEGIN:VEVENT
UID:3420@lilabi.net
DTSTART;TZID=Europe/Berlin:20200806T160000
DTEND;TZID=Europe/Berlin:20200806T180000
DTSTAMP:20200804T070725Z
URL:https://www.lilabi.net/events/hiroshima-mahnt-atomwaffen-abschaffen/
SUMMARY:Hiroshima mahnt - Atomwaffen abschaffen!
DESCRIPTION:Am 6.8. 1945 wurde die erste Atombombe über Hiroshima abgeworf
 en\, am 9.8.1945 die zweite auf Nagasaki. \n\nAm 7.7.2017 wurde von der UN
 O ein völkerrechtliches Verbot der Atomwaffen beschlossen.\n\nDie Deutsch
 e Friedensgesellschaft-Vereinigte KriegsdienstgegnerInnen OWL (DFG-VK OWL)
  veranstaltet am 75. Jahrestag in die Herforder Fussgängerzone zum Gedenk
 en an die Opfer der Atombombenabwürfe auf Hiroshima und Nagasaki statt. \
 n\nDie Message der Aktion ist klar: weg mit allen Atomwaffen\, Frieden dur
 ch Abrüstung\, soziale Gerechtigkeit und internationale Solidarität\, ni
 e wieder Krieg!\n\nMit den Aktionen zum Hiroshima-Gedenktag geht ein Zeich
 en für den weltweiten Frieden aus\, für mehr Solidarität und Gemeinsamk
 eit\, sowie für den dringlichen Wunsch der Hibakusha – der Überlebende
 n der Atombombenabwürfe auf Hiroshima und Nagasaki – nach einer Welt oh
 ne Atomwaffen.\n\nSeit Anfang 2020 stehen die Zeiger der Atomkriegsuhr\, a
 uch Weltuntergangsuhr genannt\, auf 100 Sekunden vor Zwölf. So nah wie se
 it ihrer Einführung im Jahr 1947 niemals zuvor. Die Modernisierung der At
 omwaffenarsenale statt ernstgemeinter Abrüstung\, der existenzbedrohende 
 Klimawandel und eine Aushöhlung der Demokratie durch gezielte Desinformat
 ionskampagnen in den sozialen Medien sind Ursachen für das bedrohliche Vo
 rrücken der Zeiger\, begründen die für die Uhr zuständigen Atomwissens
 chaftler*innen der Zeitschrift „Bulletin of the Atomic Scientists.“\n\
 nHerford hat sich für die Unterzeichnung des Atomwaffenverbotsvertrags au
 sgesprochen. Herfords Bürgermeister ist einer von mehr als 7.900 Mayors f
 or Peace\, die sich unter der Leitung von Hiroshima für eine Welt ohne At
 omwaffen einsetzen.\n\nDie Aktion beginnt Donnerstag\, den 6.8.2020 um 16:
 00 Uhr in der Lübberstraße vor Saturn.\n\nWeitere Stationen danach Neuer
  Markt\, Linnenbauerplatz und Alter Markt.\n\nMenschen\, die sich an der A
 ktion beteiligen möchten kommen möglichst ab 15 Uhr zum Startpunkt oder 
 melden sich unter owl@dfg-vk.de.
CATEGORIES:Gedenkveranstaltung
LOCATION:Fußgängerzone\, Lübberstraße vor Saturn - Neuer Markt - Linnen
 bauerplatz - Alter Markt\, Herford\, NRW\, 32052\, owl\, Deutschland
X-APPLE-STRUCTURED-LOCATION;VALUE=URI;X-ADDRESS=Lübberstraße vor Saturn -
  Neuer Markt - Linnenbauerplatz - Alter Markt\, Herford\, NRW\, 32052\, ow
 l\, Deutschland;X-APPLE-RADIUS=100;X-TITLE=Fußgängerzone:geo:0,0
END:VEVENT
BEGIN:VTIMEZONE
TZID:Europe/Berlin
X-LIC-LOCATION:Europe/Berlin
BEGIN:DAYLIGHT
DTSTART:20200329T030000
TZOFFSETFROM:+0100
TZOFFSETTO:+0200
TZNAME:CEST
END:DAYLIGHT
END:VTIMEZONE
END:VCALENDAR