BEGIN:VCALENDAR
VERSION:2.0
PRODID:-//wp-events-plugin.com//7.2.3.1//EN
TZID:Europe/Berlin
X-WR-TIMEZONE:Europe/Berlin
BEGIN:VEVENT
UID:3720@lilabi.net
DTSTART;TZID=Europe/Berlin:20220521T170000
DTEND;TZID=Europe/Berlin:20220522T010000
DTSTAMP:20220519T123136Z
URL:https://www.lilabi.net/events/hiphop-inflagranti/
SUMMARY:HipHop Inflagranti
DESCRIPTION:&#x2728\;HIPHOP INFLAGRANTI&#x2728\;\n\nEinladung zum HipHop In
 flagranti Konzert am 21.05.22!!\n\nMehr als 20 Jahre sind vergangen\, seit
 dem wir die HipHop Kultur zum ersten Mal ins FlaFla Herford gebracht haben
 . Jetzt laden wir alle Leute von damals und alle HipHop-Fans von heute ein
  mit uns ein Wiedersehen und Kennenlernen zu feiern!\n\nWir freuen uns auf
 \n\n&#x1f447\;&#x1f447\;&#x1f447\;\n\n@ticesound mit live Rap und HipHop u
 m 19 Uhr!\n\nIm Anschluss:\n\n@aromateeq mit Afrobeats und HipHop\n\n@ikon
 e.official mit mehr HipHop\n\n*2G Regelung*Testen erwünscht*\n\nUnd seid 
 gespannt: Wir planen schon eine fette Jam für nächstes Jahr! Stay tuned!
 &#x2728\;
ATTACH;FMTTYPE=image/jpeg:https://www.lilabi.net/wp-content/uploads/2022/0
 5/IMG-20220518-WA0005.jpg
CATEGORIES:Konzert
LOCATION:FLA FLA Herford\, Diebrocker Straße 2\, 32051 Herford\, Deutschla
 nd
X-APPLE-STRUCTURED-LOCATION;VALUE=URI;X-ADDRESS=Diebrocker Straße 2\, 3205
 1 Herford\, Deutschland;X-APPLE-RADIUS=100;X-TITLE=FLA FLA Herford:geo:0,0
END:VEVENT
BEGIN:VTIMEZONE
TZID:Europe/Berlin
X-LIC-LOCATION:Europe/Berlin
BEGIN:DAYLIGHT
DTSTART:20220327T030000
TZOFFSETFROM:+0100
TZOFFSETTO:+0200
TZNAME:CEST
END:DAYLIGHT
END:VTIMEZONE
END:VCALENDAR