BEGIN:VCALENDAR
VERSION:2.0
PRODID:-//wp-events-plugin.com//7.2.3.1//EN
TZID:Europe/Berlin
X-WR-TIMEZONE:Europe/Berlin
BEGIN:VEVENT
UID:4783@lilabi.net
DTSTART;TZID=Europe/Berlin:20230909T120000
DTEND;TZID=Europe/Berlin:20230909T180000
DTSTAMP:20230703T100341Z
URL:https://www.lilabi.net/events/hier-da-flohmarkt/
SUMMARY:Hier &amp\; Da Flohmarkt
DESCRIPTION:Am 9. September 2023 öffnen die Bielefelder:innen ihre WGs\,
  Gärten\, Höfe etc. und laden zum Trödeln ein! Von 12 bis 18 Uhr wird d
 urch die Stadt gebummelt und nach Schätzen gesucht.\n\nDer Hier &amp\; D
 a Flohmarkt bietet die Möglichkeit an\, unsere Stadt neu zu entdecken und
  setzt den Fokus auf einen bewussten Konsum. Außerdem arbeiten wir an ein
 em begleitenden kulturellen Rahmenprogramm (musikalische Auftritte\, Kunst
 ausstellungen etc.) für die verschiedenen Standorten sowie an einer After
  Show Party als Abschluss unserer Veranstaltung. Diese findet dieses Jahr 
 in der Extra Blues Bar statt.
ATTACH;FMTTYPE=image/jpeg:https://www.lilabi.net/wp-content/uploads/2023/0
 7/Logo-Hier-Da-2023-klein.png
END:VEVENT
BEGIN:VTIMEZONE
TZID:Europe/Berlin
X-LIC-LOCATION:Europe/Berlin
BEGIN:DAYLIGHT
DTSTART:20230326T030000
TZOFFSETFROM:+0100
TZOFFSETTO:+0200
TZNAME:CEST
END:DAYLIGHT
END:VTIMEZONE
END:VCALENDAR