BEGIN:VCALENDAR
VERSION:2.0
PRODID:-//wp-events-plugin.com//7.2.3.1//EN
TZID:Europe/Berlin
X-WR-TIMEZONE:Europe/Berlin
BEGIN:VEVENT
UID:4372@lilabi.net
DTSTART;TZID=Europe/Berlin:20220903T120000
DTEND;TZID=Europe/Berlin:20220903T180000
DTSTAMP:20220725T121137Z
URL:https://www.lilabi.net/events/hier-da-flohmarkt-2/
SUMMARY:Hier &amp\; Da Flohmarkt
DESCRIPTION:Am 03. September öffnen die Bielefelder:innen ihre WGs\, Wohnu
 ngen\, Gärten\, Höfe - und laden dich zum Trödeln ein! Von 12 bis 18 Uh
 r wird durch die Stadt gebummelt. Unser Flohmarkt ist darin einzigartig\, 
 dass die Trödelstandorte (WGs\, Höfe etc.) in der ganzen Innenstadt vert
 eilt sind und neben dem Versprechen einer spannenden Jagd nach Schätzen e
 in buntes\, kulturelles Rahmenprogramm angeboten wird.\n\nEine digitale Ka
 rte mit den Trödelstandorten wird noch veröffentlicht.\n\nMail: hier-und
 -da-flohmarkt@protonmail.com\nFacebook: https://www.facebook.com/hierundda
 flohmarkt\nInstagram: @hier-und-da-flohmarkt
ATTACH;FMTTYPE=image/jpeg:https://www.lilabi.net/wp-content/uploads/2022/0
 7/Hier-Da-Logo-Final-Klein-1.png
CATEGORIES:Sonstiges
END:VEVENT
BEGIN:VTIMEZONE
TZID:Europe/Berlin
X-LIC-LOCATION:Europe/Berlin
BEGIN:DAYLIGHT
DTSTART:20220327T030000
TZOFFSETFROM:+0100
TZOFFSETTO:+0200
TZNAME:CEST
END:DAYLIGHT
END:VTIMEZONE
END:VCALENDAR