BEGIN:VCALENDAR
VERSION:2.0
PRODID:-//wp-events-plugin.com//7.2.3.1//EN
TZID:Europe/Berlin
X-WR-TIMEZONE:Europe/Berlin
BEGIN:VEVENT
UID:4452@lilabi.net
DTSTART;TZID=Europe/Berlin:20221101T180000
DTEND;TZID=Europe/Berlin:20221101T200000
DTSTAMP:20221028T120218Z
URL:https://www.lilabi.net/events/herschels-rache/
SUMMARY:Herschels Rache
DESCRIPTION:In diesem Workshop soll anhand der Geschichte Herschel Grynszpa
 ns ein neuer Blick auf die deutsche Erinnerungskultur geworfen werden. Gem
 einsam wollen wir dafür verschiedene\, historische Perspektiven auf eine 
 jugendliche\, jüdische und wehrhafte Reaktion auf den Nationalsozialismus
  erarbeiten und besprechen\, die trotz ihrer Bedeutung bisher im Gedenken 
 an die Novemberpogrome – möglicherweise zu Unrecht? – kaum eine Rolle
  spielt.\n\n+++ Ein Workshop organisiert von ALIBI +++\nDie Veranstaltung 
 findet im Rahmen des antifaschistischen Jugendcafes (im Grünen Würfel au
 f dem Kesselbrink) statt.
CATEGORIES:Workshop
LOCATION:Grüner Würfel\, Bistro Keimzeit im Erdgeschoss\, Kesselbrink 2\,
  33602 Bielefeld\, Bielefeld\, Deutschland
X-APPLE-STRUCTURED-LOCATION;VALUE=URI;X-ADDRESS=Kesselbrink 2\, 33602 Biele
 feld\, Bielefeld\, Deutschland;X-APPLE-RADIUS=100;X-TITLE=Grüner Würfel\
 , Bistro Keimzeit im Erdgeschoss:geo:0,0
END:VEVENT
BEGIN:VTIMEZONE
TZID:Europe/Berlin
X-LIC-LOCATION:Europe/Berlin
BEGIN:STANDARD
DTSTART:20221030T020000
TZOFFSETFROM:+0200
TZOFFSETTO:+0100
TZNAME:CET
END:STANDARD
END:VTIMEZONE
END:VCALENDAR